BEGIN:VCALENDAR
VERSION:2.0
PRODID:-//PolicyMap - ECPv6.15.20//NONSGML v1.0//EN
CALSCALE:GREGORIAN
METHOD:PUBLISH
X-WR-CALNAME:PolicyMap
X-ORIGINAL-URL:https://www.policymap.com
X-WR-CALDESC:Events for PolicyMap
REFRESH-INTERVAL;VALUE=DURATION:PT1H
X-Robots-Tag:noindex
X-PUBLISHED-TTL:PT1H
BEGIN:VTIMEZONE
TZID:America/New_York
BEGIN:DAYLIGHT
TZOFFSETFROM:-0500
TZOFFSETTO:-0400
TZNAME:EDT
DTSTART:20210314T070000
END:DAYLIGHT
BEGIN:STANDARD
TZOFFSETFROM:-0400
TZOFFSETTO:-0500
TZNAME:EST
DTSTART:20211107T060000
END:STANDARD
BEGIN:DAYLIGHT
TZOFFSETFROM:-0500
TZOFFSETTO:-0400
TZNAME:EDT
DTSTART:20220313T070000
END:DAYLIGHT
BEGIN:STANDARD
TZOFFSETFROM:-0400
TZOFFSETTO:-0500
TZNAME:EST
DTSTART:20221106T060000
END:STANDARD
BEGIN:DAYLIGHT
TZOFFSETFROM:-0500
TZOFFSETTO:-0400
TZNAME:EDT
DTSTART:20230312T070000
END:DAYLIGHT
BEGIN:STANDARD
TZOFFSETFROM:-0400
TZOFFSETTO:-0500
TZNAME:EST
DTSTART:20231105T060000
END:STANDARD
END:VTIMEZONE
BEGIN:VEVENT
DTSTART;TZID=America/New_York:20220727T140000
DTEND;TZID=America/New_York:20220727T150000
DTSTAMP:20260421T202941
CREATED:20220725T183809Z
LAST-MODIFIED:20220725T191719Z
UID:32023-1658930400-1658934000@www.policymap.com
SUMMARY:2022 Terwilliger Center Home Attainability Index Release
DESCRIPTION:PolicyMap is excited to support the release of the ULI Terwilliger Center’s 2022 Home Attainability Index! The ULI Terwilliger Center’s Home Attainability Index\, which launched in 2020\, provides practitioners with an easily accessible resource that can set a data-informed foundation for regional discussions of housing needs and solutions. \nIn this webinar\, Mike Spotts\, author of the Index and senior visiting research fellow with the ULI Terwilliger Center\, will present the updates made to this year’s Index as well as key findings from the latest data. A panel will then discuss recent trends in the housing market\, the inter-regional and local implications of housing attainability\, and how practitioners can take advantage of and use the Index in their day-to-day work. \nThe webinar will also include a demonstration of the Embedded Mapping Tool built by PolicyMap for ULI Terwilliger Center. \nRegister
URL:/events/2022-terwilliger-center-home-attainability-index-release
LOCATION:ZOOM
ATTACH;FMTTYPE=image/png:/wp-content/uploads/2022/07/ULI_HAI_01.png
ORGANIZER;CN="ULI Terwilliger Center":MAILTO:Michael.Spotts@uli.org
END:VEVENT
END:VCALENDAR