BEGIN:VCALENDAR
VERSION:2.0
PRODID:-//PolicyMap - ECPv6.15.20//NONSGML v1.0//EN
CALSCALE:GREGORIAN
METHOD:PUBLISH
X-WR-CALNAME:PolicyMap
X-ORIGINAL-URL:https://www.policymap.com
X-WR-CALDESC:Events for PolicyMap
REFRESH-INTERVAL;VALUE=DURATION:PT1H
X-Robots-Tag:noindex
X-PUBLISHED-TTL:PT1H
BEGIN:VTIMEZONE
TZID:America/New_York
BEGIN:DAYLIGHT
TZOFFSETFROM:-0500
TZOFFSETTO:-0400
TZNAME:EDT
DTSTART:20200308T070000
END:DAYLIGHT
BEGIN:STANDARD
TZOFFSETFROM:-0400
TZOFFSETTO:-0500
TZNAME:EST
DTSTART:20201101T060000
END:STANDARD
BEGIN:DAYLIGHT
TZOFFSETFROM:-0500
TZOFFSETTO:-0400
TZNAME:EDT
DTSTART:20210314T070000
END:DAYLIGHT
BEGIN:STANDARD
TZOFFSETFROM:-0400
TZOFFSETTO:-0500
TZNAME:EST
DTSTART:20211107T060000
END:STANDARD
BEGIN:DAYLIGHT
TZOFFSETFROM:-0500
TZOFFSETTO:-0400
TZNAME:EDT
DTSTART:20220313T070000
END:DAYLIGHT
BEGIN:STANDARD
TZOFFSETFROM:-0400
TZOFFSETTO:-0500
TZNAME:EST
DTSTART:20221106T060000
END:STANDARD
END:VTIMEZONE
BEGIN:VEVENT
DTSTART;TZID=America/New_York:20210204T150000
DTEND;TZID=America/New_York:20210204T153000
DTSTAMP:20260423T042820
CREATED:20210121T145209Z
LAST-MODIFIED:20210121T145209Z
UID:29319-1612450800-1612452600@www.policymap.com
SUMMARY:Jump into the New PolicyMap
DESCRIPTION:A new data and mapping experience is here.  \nSee the New Maps – Visualize geographic data with new contemporary\, customizable base maps\, additional zoom levels and 3D views.\nAnalyze Data with Better Tools – Dig deeper into data with new ways to explore interactive trends charts\, filter multi-layer mapping\, create and edit custom regions\, and select data ranges for map display using histograms. \nWe will have plenty of time for questions and answers regarding PolicyMap. \nSign up
URL:/events/jump-into-the-policymap-beta-5
END:VEVENT
END:VCALENDAR