BEGIN:VCALENDAR
VERSION:2.0
PRODID:-//PolicyMap - ECPv6.15.20//NONSGML v1.0//EN
CALSCALE:GREGORIAN
METHOD:PUBLISH
X-ORIGINAL-URL:https://www.policymap.com
X-WR-CALDESC:Events for PolicyMap
REFRESH-INTERVAL;VALUE=DURATION:PT1H
X-Robots-Tag:noindex
X-PUBLISHED-TTL:PT1H
BEGIN:VTIMEZONE
TZID:America/New_York
BEGIN:DAYLIGHT
TZOFFSETFROM:-0500
TZOFFSETTO:-0400
TZNAME:EDT
DTSTART:20160313T070000
END:DAYLIGHT
BEGIN:STANDARD
TZOFFSETFROM:-0400
TZOFFSETTO:-0500
TZNAME:EST
DTSTART:20161106T060000
END:STANDARD
BEGIN:DAYLIGHT
TZOFFSETFROM:-0500
TZOFFSETTO:-0400
TZNAME:EDT
DTSTART:20170312T070000
END:DAYLIGHT
BEGIN:STANDARD
TZOFFSETFROM:-0400
TZOFFSETTO:-0500
TZNAME:EST
DTSTART:20171105T060000
END:STANDARD
BEGIN:DAYLIGHT
TZOFFSETFROM:-0500
TZOFFSETTO:-0400
TZNAME:EDT
DTSTART:20180311T070000
END:DAYLIGHT
BEGIN:STANDARD
TZOFFSETFROM:-0400
TZOFFSETTO:-0500
TZNAME:EST
DTSTART:20181104T060000
END:STANDARD
END:VTIMEZONE
BEGIN:VEVENT
DTSTART;TZID=America/New_York:20170801T143000
DTEND;TZID=America/New_York:20170801T153000
DTSTAMP:20260425T194626
CREATED:20170608T225352Z
LAST-MODIFIED:20170608T225352Z
UID:22592-1501597800-1501601400@www.policymap.com
SUMMARY:Learning the basics of PolicyMap
DESCRIPTION:This overview will cover: basic user interface (searching for locations\, loading datasets\, saving & printing)\, unique custom functionality (creating custom boundaries\, editing ranges\, customizing colors\, etc)\, and highlighting specific datasets. \nWe will have plenty of time for questions and answers regarding PolicyMap. \nSign up
URL:/events/learning-basics-policymap-47
END:VEVENT
BEGIN:VEVENT
DTSTART;TZID=America/New_York:20170802T110000
DTEND;TZID=America/New_York:20170802T120000
DTSTAMP:20260425T194626
CREATED:20170608T225733Z
LAST-MODIFIED:20170608T225733Z
UID:22602-1501671600-1501675200@www.policymap.com
SUMMARY:Learn the Data Loader\, Data Download\, 3-Layer Maps\, and other Advanced Features
DESCRIPTION:Thank you for joining us to learn more advanced features on PolicyMap. We hope you have already attended our Overview Training session to learn the basics of PolicyMap or at least have used the tool a bit.  \nIn this session\, we will cover the more advanced features of PolicyMap including the Data Loader\, Data Download\, and 3-Layer Maps.  \n• The Data Loader allows subscribers to quickly upload a point (address) dataset.\n• Downloading Data is as simple as a few clicks.\n• The 3-Layer Maps feature is the ability to overlay up to 3 layers of data.  \nThis session will also offer plenty of time for questions and answer\, and time permitting\, a chance to go through a user case study. \nSign up
URL:/events/learn-data-loader-data-download-3-layer-maps-advanced-features-30
END:VEVENT
BEGIN:VEVENT
DTSTART;TZID=America/New_York:20170809T140000
DTEND;TZID=America/New_York:20170809T150000
DTSTAMP:20260425T194626
CREATED:20170608T225812Z
LAST-MODIFIED:20170608T225812Z
UID:22604-1502287200-1502290800@www.policymap.com
SUMMARY:Learn the Data Loader\, Data Download\, 3-Layer Maps\, and other Advanced Features
DESCRIPTION:Thank you for joining us to learn more advanced features on PolicyMap. We hope you have already attended our Overview Training session to learn the basics of PolicyMap or at least have used the tool a bit.  \nIn this session\, we will cover the more advanced features of PolicyMap including the Data Loader\, Data Download\, and 3-Layer Maps.  \n• The Data Loader allows subscribers to quickly upload a point (address) dataset.\n• Downloading Data is as simple as a few clicks.\n• The 3-Layer Maps feature is the ability to overlay up to 3 layers of data.  \nThis session will also offer plenty of time for questions and answer\, and time permitting\, a chance to go through a user case study. \nSign up
URL:/events/learn-data-loader-data-download-3-layer-maps-advanced-features-31
END:VEVENT
BEGIN:VEVENT
DTSTART;TZID=America/New_York:20170810T110000
DTEND;TZID=America/New_York:20170810T120000
DTSTAMP:20260425T194626
CREATED:20170608T225430Z
LAST-MODIFIED:20170608T225430Z
UID:22594-1502362800-1502366400@www.policymap.com
SUMMARY:Learning the basics of PolicyMap
DESCRIPTION:This overview will cover: basic user interface (searching for locations\, loading datasets\, saving & printing)\, unique custom functionality (creating custom boundaries\, editing ranges\, customizing colors\, etc)\, and highlighting specific datasets. \nWe will have plenty of time for questions and answers regarding PolicyMap. \nSign up
URL:/events/learning-basics-policymap-48
END:VEVENT
BEGIN:VEVENT
DTSTART;TZID=America/New_York:20170815T140000
DTEND;TZID=America/New_York:20170815T150000
DTSTAMP:20260425T194626
CREATED:20170608T225509Z
LAST-MODIFIED:20170608T225509Z
UID:22596-1502805600-1502809200@www.policymap.com
SUMMARY:Learning the basics of PolicyMap
DESCRIPTION:This overview will cover: basic user interface (searching for locations\, loading datasets\, saving & printing)\, unique custom functionality (creating custom boundaries\, editing ranges\, customizing colors\, etc)\, and highlighting specific datasets. \nWe will have plenty of time for questions and answers regarding PolicyMap. \nSign up
URL:/events/learning-basics-policymap-49
END:VEVENT
BEGIN:VEVENT
DTSTART;TZID=America/New_York:20170816T110000
DTEND;TZID=America/New_York:20170816T120000
DTSTAMP:20260425T194626
CREATED:20170608T225859Z
LAST-MODIFIED:20170608T225859Z
UID:22606-1502881200-1502884800@www.policymap.com
SUMMARY:Learn the Data Loader\, Data Download\, 3-Layer Maps\, and other Advanced Features
DESCRIPTION:Thank you for joining us to learn more advanced features on PolicyMap. We hope you have already attended our Overview Training session to learn the basics of PolicyMap or at least have used the tool a bit.  \nIn this session\, we will cover the more advanced features of PolicyMap including the Data Loader\, Data Download\, and 3-Layer Maps.  \n• The Data Loader allows subscribers to quickly upload a point (address) dataset.\n• Downloading Data is as simple as a few clicks.\n• The 3-Layer Maps feature is the ability to overlay up to 3 layers of data.  \nThis session will also offer plenty of time for questions and answer\, and time permitting\, a chance to go through a user case study. \nSign up
URL:/events/learn-data-loader-data-download-3-layer-maps-advanced-features-32
END:VEVENT
BEGIN:VEVENT
DTSTART;TZID=America/New_York:20170823T140000
DTEND;TZID=America/New_York:20170823T150000
DTSTAMP:20260425T194626
CREATED:20170608T230008Z
LAST-MODIFIED:20170608T230008Z
UID:22608-1503496800-1503500400@www.policymap.com
SUMMARY:Learn the Data Loader\, Data Download\, 3-Layer Maps\, and other Advanced Features
DESCRIPTION:Thank you for joining us to learn more advanced features on PolicyMap. We hope you have already attended our Overview Training session to learn the basics of PolicyMap or at least have used the tool a bit.  \nIn this session\, we will cover the more advanced features of PolicyMap including the Data Loader\, Data Download\, and 3-Layer Maps.  \n• The Data Loader allows subscribers to quickly upload a point (address) dataset.\n• Downloading Data is as simple as a few clicks.\n• The 3-Layer Maps feature is the ability to overlay up to 3 layers of data.  \nThis session will also offer plenty of time for questions and answer\, and time permitting\, a chance to go through a user case study. \nSign up
URL:/events/learn-data-loader-data-download-3-layer-maps-advanced-features-33
END:VEVENT
BEGIN:VEVENT
DTSTART;TZID=America/New_York:20170824T110000
DTEND;TZID=America/New_York:20170824T120000
DTSTAMP:20260425T194626
CREATED:20170608T225550Z
LAST-MODIFIED:20170608T225550Z
UID:22598-1503572400-1503576000@www.policymap.com
SUMMARY:Learning the basics of PolicyMap
DESCRIPTION:This overview will cover: basic user interface (searching for locations\, loading datasets\, saving & printing)\, unique custom functionality (creating custom boundaries\, editing ranges\, customizing colors\, etc)\, and highlighting specific datasets. \nWe will have plenty of time for questions and answers regarding PolicyMap. \nSign up
URL:/events/learning-basics-policymap-50
END:VEVENT
BEGIN:VEVENT
DTSTART;TZID=America/New_York:20170829T140000
DTEND;TZID=America/New_York:20170829T150000
DTSTAMP:20260425T194626
CREATED:20170608T225628Z
LAST-MODIFIED:20170608T225628Z
UID:22600-1504015200-1504018800@www.policymap.com
SUMMARY:Learning the basics of PolicyMap
DESCRIPTION:This overview will cover: basic user interface (searching for locations\, loading datasets\, saving & printing)\, unique custom functionality (creating custom boundaries\, editing ranges\, customizing colors\, etc)\, and highlighting specific datasets. \nWe will have plenty of time for questions and answers regarding PolicyMap. \nSign up
URL:/events/learning-basics-policymap-51
END:VEVENT
BEGIN:VEVENT
DTSTART;TZID=America/New_York:20170830T110000
DTEND;TZID=America/New_York:20170830T120000
DTSTAMP:20260425T194626
CREATED:20170608T230046Z
LAST-MODIFIED:20170608T230046Z
UID:22610-1504090800-1504094400@www.policymap.com
SUMMARY:Learn the Data Loader\, Data Download\, 3-Layer Maps\, and other Advanced Features
DESCRIPTION:Thank you for joining us to learn more advanced features on PolicyMap. We hope you have already attended our Overview Training session to learn the basics of PolicyMap or at least have used the tool a bit.  \nIn this session\, we will cover the more advanced features of PolicyMap including the Data Loader\, Data Download\, and 3-Layer Maps.  \n• The Data Loader allows subscribers to quickly upload a point (address) dataset.\n• Downloading Data is as simple as a few clicks.\n• The 3-Layer Maps feature is the ability to overlay up to 3 layers of data.  \nThis session will also offer plenty of time for questions and answer\, and time permitting\, a chance to go through a user case study. \nSign up
URL:/events/learn-data-loader-data-download-3-layer-maps-advanced-features-34
END:VEVENT
END:VCALENDAR