BEGIN:VCALENDAR
VERSION:2.0
PRODID:-//PolicyMap - ECPv6.15.20//NONSGML v1.0//EN
CALSCALE:GREGORIAN
METHOD:PUBLISH
X-ORIGINAL-URL:https://www.policymap.com
X-WR-CALDESC:Events for PolicyMap
REFRESH-INTERVAL;VALUE=DURATION:PT1H
X-Robots-Tag:noindex
X-PUBLISHED-TTL:PT1H
BEGIN:VTIMEZONE
TZID:America/New_York
BEGIN:DAYLIGHT
TZOFFSETFROM:-0500
TZOFFSETTO:-0400
TZNAME:EDT
DTSTART:20160313T070000
END:DAYLIGHT
BEGIN:STANDARD
TZOFFSETFROM:-0400
TZOFFSETTO:-0500
TZNAME:EST
DTSTART:20161106T060000
END:STANDARD
BEGIN:DAYLIGHT
TZOFFSETFROM:-0500
TZOFFSETTO:-0400
TZNAME:EDT
DTSTART:20170312T070000
END:DAYLIGHT
BEGIN:STANDARD
TZOFFSETFROM:-0400
TZOFFSETTO:-0500
TZNAME:EST
DTSTART:20171105T060000
END:STANDARD
BEGIN:DAYLIGHT
TZOFFSETFROM:-0500
TZOFFSETTO:-0400
TZNAME:EDT
DTSTART:20180311T070000
END:DAYLIGHT
BEGIN:STANDARD
TZOFFSETFROM:-0400
TZOFFSETTO:-0500
TZNAME:EST
DTSTART:20181104T060000
END:STANDARD
END:VTIMEZONE
BEGIN:VEVENT
DTSTART;TZID=America/New_York:20171004T140000
DTEND;TZID=America/New_York:20171004T150000
DTSTAMP:20260425T162940
CREATED:20170908T195010Z
LAST-MODIFIED:20170908T195010Z
UID:23315-1507125600-1507129200@www.policymap.com
SUMMARY:Learn the Data Loader\, Data Download\, 3-Layer Maps\, and other Advanced Features
DESCRIPTION:Thank you for joining us to learn more advanced features on PolicyMap. We hope you have already attended our Overview Training session to learn the basics of PolicyMap or at least have used the tool a bit.  \nIn this session\, we will cover the more advanced features of PolicyMap including the Data Loader\, Data Download\, and 3-Layer Maps.  \n• The Data Loader allows subscribers to quickly upload a point (address) dataset.\n• Downloading Data is as simple as a few clicks.\n• The 3-Layer Maps feature is the ability to overlay up to 3 layers of data.  \nThis session will also offer plenty of time for questions and answer\, and time permitting\, a chance to go through a user case study. \nSign up
URL:/events/learn-data-loader-data-download-3-layer-maps-advanced-features-39
END:VEVENT
BEGIN:VEVENT
DTSTART;TZID=America/New_York:20171005T110000
DTEND;TZID=America/New_York:20171005T120000
DTSTAMP:20260425T162940
CREATED:20170908T194523Z
LAST-MODIFIED:20170908T194523Z
UID:23307-1507201200-1507204800@www.policymap.com
SUMMARY:Learning the basics of PolicyMap
DESCRIPTION:This overview will cover: basic user interface (searching for locations\, loading datasets\, saving & printing)\, unique custom functionality (creating custom boundaries\, editing ranges\, customizing colors\, etc)\, and highlighting specific datasets. \nWe will have plenty of time for questions and answers regarding PolicyMap. \nSign up
URL:/events/learning-basics-policymap-56
END:VEVENT
BEGIN:VEVENT
DTSTART;TZID=America/New_York:20171010T140000
DTEND;TZID=America/New_York:20171010T150000
DTSTAMP:20260425T162940
CREATED:20170908T194733Z
LAST-MODIFIED:20170908T194733Z
UID:23309-1507644000-1507647600@www.policymap.com
SUMMARY:Learning the basics of PolicyMap
DESCRIPTION:This overview will cover: basic user interface (searching for locations\, loading datasets\, saving & printing)\, unique custom functionality (creating custom boundaries\, editing ranges\, customizing colors\, etc)\, and highlighting specific datasets. \nWe will have plenty of time for questions and answers regarding PolicyMap. \nSign up
URL:/events/learning-basics-policymap-57
END:VEVENT
BEGIN:VEVENT
DTSTART;TZID=America/New_York:20171011T110000
DTEND;TZID=America/New_York:20171011T120000
DTSTAMP:20260425T162940
CREATED:20170908T195151Z
LAST-MODIFIED:20170908T195151Z
UID:23318-1507719600-1507723200@www.policymap.com
SUMMARY:Learn the Data Loader\, Data Download\, 3-Layer Maps\, and other Advanced Features
DESCRIPTION:Thank you for joining us to learn more advanced features on PolicyMap. We hope you have already attended our Overview Training session to learn the basics of PolicyMap or at least have used the tool a bit.  \nIn this session\, we will cover the more advanced features of PolicyMap including the Data Loader\, Data Download\, and 3-Layer Maps.  \n• The Data Loader allows subscribers to quickly upload a point (address) dataset.\n• Downloading Data is as simple as a few clicks.\n• The 3-Layer Maps feature is the ability to overlay up to 3 layers of data.  \nThis session will also offer plenty of time for questions and answer\, and time permitting\, a chance to go through a user case study. \nSign up
URL:/events/learn-data-loader-data-download-3-layer-maps-advanced-features-40
END:VEVENT
BEGIN:VEVENT
DTSTART;TZID=America/New_York:20171018T140000
DTEND;TZID=America/New_York:20171018T150000
DTSTAMP:20260425T162940
CREATED:20170908T195248Z
LAST-MODIFIED:20170908T195248Z
UID:23320-1508335200-1508338800@www.policymap.com
SUMMARY:Learn the Data Loader\, Data Download\, 3-Layer Maps\, and other Advanced Features
DESCRIPTION:Thank you for joining us to learn more advanced features on PolicyMap. We hope you have already attended our Overview Training session to learn the basics of PolicyMap or at least have used the tool a bit.  \nIn this session\, we will cover the more advanced features of PolicyMap including the Data Loader\, Data Download\, and 3-Layer Maps.  \n• The Data Loader allows subscribers to quickly upload a point (address) dataset.\n• Downloading Data is as simple as a few clicks.\n• The 3-Layer Maps feature is the ability to overlay up to 3 layers of data.  \nThis session will also offer plenty of time for questions and answer\, and time permitting\, a chance to go through a user case study. \nSign up
URL:/events/learn-data-loader-data-download-3-layer-maps-advanced-features-41
END:VEVENT
BEGIN:VEVENT
DTSTART;TZID=America/New_York:20171019T110000
DTEND;TZID=America/New_York:20171019T120000
DTSTAMP:20260425T162940
CREATED:20170908T194820Z
LAST-MODIFIED:20170908T194820Z
UID:23311-1508410800-1508414400@www.policymap.com
SUMMARY:Learning the basics of PolicyMap
DESCRIPTION:This overview will cover: basic user interface (searching for locations\, loading datasets\, saving & printing)\, unique custom functionality (creating custom boundaries\, editing ranges\, customizing colors\, etc)\, and highlighting specific datasets. \nWe will have plenty of time for questions and answers regarding PolicyMap. \nSign up
URL:/events/learning-basics-policymap-58
END:VEVENT
BEGIN:VEVENT
DTSTART;TZID=America/New_York:20171024T140000
DTEND;TZID=America/New_York:20171024T150000
DTSTAMP:20260425T162940
CREATED:20170908T194903Z
LAST-MODIFIED:20170908T194903Z
UID:23313-1508853600-1508857200@www.policymap.com
SUMMARY:Learning the basics of PolicyMap
DESCRIPTION:This overview will cover: basic user interface (searching for locations\, loading datasets\, saving & printing)\, unique custom functionality (creating custom boundaries\, editing ranges\, customizing colors\, etc)\, and highlighting specific datasets. \nWe will have plenty of time for questions and answers regarding PolicyMap. \nSign up
URL:/events/learning-basics-policymap-59
END:VEVENT
BEGIN:VEVENT
DTSTART;TZID=America/New_York:20171025T110000
DTEND;TZID=America/New_York:20171025T120000
DTSTAMP:20260425T162940
CREATED:20170908T195340Z
LAST-MODIFIED:20170908T195340Z
UID:23322-1508929200-1508932800@www.policymap.com
SUMMARY:Learn the Data Loader\, Data Download\, 3-Layer Maps\, and other Advanced Features
DESCRIPTION:Thank you for joining us to learn more advanced features on PolicyMap. We hope you have already attended our Overview Training session to learn the basics of PolicyMap or at least have used the tool a bit.  \nIn this session\, we will cover the more advanced features of PolicyMap including the Data Loader\, Data Download\, and 3-Layer Maps.  \n• The Data Loader allows subscribers to quickly upload a point (address) dataset.\n• Downloading Data is as simple as a few clicks.\n• The 3-Layer Maps feature is the ability to overlay up to 3 layers of data.  \nThis session will also offer plenty of time for questions and answer\, and time permitting\, a chance to go through a user case study. \nSign up
URL:/events/learn-data-loader-data-download-3-layer-maps-advanced-features-42
END:VEVENT
END:VCALENDAR