BEGIN:VCALENDAR
VERSION:2.0
PRODID:-//PolicyMap - ECPv6.15.20//NONSGML v1.0//EN
CALSCALE:GREGORIAN
METHOD:PUBLISH
X-WR-CALNAME:PolicyMap
X-ORIGINAL-URL:https://www.policymap.com
X-WR-CALDESC:Events for PolicyMap
REFRESH-INTERVAL;VALUE=DURATION:PT1H
X-Robots-Tag:noindex
X-PUBLISHED-TTL:PT1H
BEGIN:VTIMEZONE
TZID:America/New_York
BEGIN:DAYLIGHT
TZOFFSETFROM:-0500
TZOFFSETTO:-0400
TZNAME:EDT
DTSTART:20160313T070000
END:DAYLIGHT
BEGIN:STANDARD
TZOFFSETFROM:-0400
TZOFFSETTO:-0500
TZNAME:EST
DTSTART:20161106T060000
END:STANDARD
BEGIN:DAYLIGHT
TZOFFSETFROM:-0500
TZOFFSETTO:-0400
TZNAME:EDT
DTSTART:20170312T070000
END:DAYLIGHT
BEGIN:STANDARD
TZOFFSETFROM:-0400
TZOFFSETTO:-0500
TZNAME:EST
DTSTART:20171105T060000
END:STANDARD
BEGIN:DAYLIGHT
TZOFFSETFROM:-0500
TZOFFSETTO:-0400
TZNAME:EDT
DTSTART:20180311T070000
END:DAYLIGHT
BEGIN:STANDARD
TZOFFSETFROM:-0400
TZOFFSETTO:-0500
TZNAME:EST
DTSTART:20181104T060000
END:STANDARD
END:VTIMEZONE
BEGIN:VEVENT
DTSTART;TZID=America/New_York:20171108T140000
DTEND;TZID=America/New_York:20171108T150000
DTSTAMP:20260425T144250
CREATED:20171006T233517Z
LAST-MODIFIED:20171006T233517Z
UID:23404-1510149600-1510153200@www.policymap.com
SUMMARY:Learn the Data Loader\, Data Download\, 3-Layer Maps\, and other Advanced Features
DESCRIPTION:Thank you for joining us to learn more advanced features on PolicyMap. We hope you have already attended our Overview Training session to learn the basics of PolicyMap or at least have used the tool a bit.  \nIn this session\, we will cover the more advanced features of PolicyMap including the Data Loader\, Data Download\, and 3-Layer Maps.  \n• The Data Loader allows subscribers to quickly upload a point (address) dataset.\n• Downloading Data is as simple as a few clicks.\n• The 3-Layer Maps feature is the ability to overlay up to 3 layers of data.  \nThis session will also offer plenty of time for questions and answer\, and time permitting\, a chance to go through a user case study. \nSign up
URL:/events/learn-data-loader-data-download-3-layer-maps-advanced-features-43
END:VEVENT
BEGIN:VEVENT
DTSTART;TZID=America/New_York:20171109T110000
DTEND;TZID=America/New_York:20171109T120000
DTSTAMP:20260425T144250
CREATED:20171006T233049Z
LAST-MODIFIED:20171006T233049Z
UID:23396-1510225200-1510228800@www.policymap.com
SUMMARY:Learning the basics of PolicyMap
DESCRIPTION:This overview will cover: basic user interface (searching for locations\, loading datasets\, saving & printing)\, unique custom functionality (creating custom boundaries\, editing ranges\, customizing colors\, etc)\, and highlighting specific datasets. \nWe will have plenty of time for questions and answers regarding PolicyMap. \nSign up
URL:/events/learning-basics-policymap-54
END:VEVENT
BEGIN:VEVENT
DTSTART;TZID=America/New_York:20171114T140000
DTEND;TZID=America/New_York:20171114T150000
DTSTAMP:20260425T144250
CREATED:20171006T233145Z
LAST-MODIFIED:20171006T233145Z
UID:23398-1510668000-1510671600@www.policymap.com
SUMMARY:Learning the basics of PolicyMap
DESCRIPTION:This overview will cover: basic user interface (searching for locations\, loading datasets\, saving & printing)\, unique custom functionality (creating custom boundaries\, editing ranges\, customizing colors\, etc)\, and highlighting specific datasets. \nWe will have plenty of time for questions and answers regarding PolicyMap. \nSign up
URL:/events/learning-basics-policymap-60
END:VEVENT
BEGIN:VEVENT
DTSTART;TZID=America/New_York:20171115T110000
DTEND;TZID=America/New_York:20171115T120000
DTSTAMP:20260425T144250
CREATED:20171006T233619Z
LAST-MODIFIED:20171006T233619Z
UID:23406-1510743600-1510747200@www.policymap.com
SUMMARY:Learn the Data Loader\, Data Download\, 3-Layer Maps\, and other Advanced Features
DESCRIPTION:Thank you for joining us to learn more advanced features on PolicyMap. We hope you have already attended our Overview Training session to learn the basics of PolicyMap or at least have used the tool a bit.  \nIn this session\, we will cover the more advanced features of PolicyMap including the Data Loader\, Data Download\, and 3-Layer Maps.  \n• The Data Loader allows subscribers to quickly upload a point (address) dataset.\n• Downloading Data is as simple as a few clicks.\n• The 3-Layer Maps feature is the ability to overlay up to 3 layers of data.  \nThis session will also offer plenty of time for questions and answer\, and time permitting\, a chance to go through a user case study. \nSign up
URL:/events/learn-data-loader-data-download-3-layer-maps-advanced-features-44
END:VEVENT
BEGIN:VEVENT
DTSTART;TZID=America/New_York:20171121T110000
DTEND;TZID=America/New_York:20171121T120000
DTSTAMP:20260425T144250
CREATED:20171006T233316Z
LAST-MODIFIED:20171006T233316Z
UID:23400-1511262000-1511265600@www.policymap.com
SUMMARY:Learning the basics of PolicyMap
DESCRIPTION:This overview will cover: basic user interface (searching for locations\, loading datasets\, saving & printing)\, unique custom functionality (creating custom boundaries\, editing ranges\, customizing colors\, etc)\, and highlighting specific datasets. \nWe will have plenty of time for questions and answers regarding PolicyMap. \nSign up
URL:/events/learning-basics-policymap-61
END:VEVENT
BEGIN:VEVENT
DTSTART;TZID=America/New_York:20171122T140000
DTEND;TZID=America/New_York:20171122T150000
DTSTAMP:20260425T144250
CREATED:20171006T233726Z
LAST-MODIFIED:20171006T233726Z
UID:23408-1511359200-1511362800@www.policymap.com
SUMMARY:Learn the Data Loader\, Data Download\, 3-Layer Maps\, and other Advanced Features
DESCRIPTION:Thank you for joining us to learn more advanced features on PolicyMap. We hope you have already attended our Overview Training session to learn the basics of PolicyMap or at least have used the tool a bit.  \nIn this session\, we will cover the more advanced features of PolicyMap including the Data Loader\, Data Download\, and 3-Layer Maps.  \n• The Data Loader allows subscribers to quickly upload a point (address) dataset.\n• Downloading Data is as simple as a few clicks.\n• The 3-Layer Maps feature is the ability to overlay up to 3 layers of data.  \nThis session will also offer plenty of time for questions and answer\, and time permitting\, a chance to go through a user case study. \nSign up
URL:/events/learn-data-loader-data-download-3-layer-maps-advanced-features-45
END:VEVENT
BEGIN:VEVENT
DTSTART;TZID=America/New_York:20171129T140000
DTEND;TZID=America/New_York:20171129T150000
DTSTAMP:20260425T144250
CREATED:20171006T233814Z
LAST-MODIFIED:20171006T233814Z
UID:23410-1511964000-1511967600@www.policymap.com
SUMMARY:Learn the Data Loader\, Data Download\, 3-Layer Maps\, and other Advanced Features
DESCRIPTION:Thank you for joining us to learn more advanced features on PolicyMap. We hope you have already attended our Overview Training session to learn the basics of PolicyMap or at least have used the tool a bit.  \nIn this session\, we will cover the more advanced features of PolicyMap including the Data Loader\, Data Download\, and 3-Layer Maps.  \n• The Data Loader allows subscribers to quickly upload a point (address) dataset.\n• Downloading Data is as simple as a few clicks.\n• The 3-Layer Maps feature is the ability to overlay up to 3 layers of data.  \nThis session will also offer plenty of time for questions and answer\, and time permitting\, a chance to go through a user case study. \nSign up
URL:/events/learn-data-loader-data-download-3-layer-maps-advanced-features-46
END:VEVENT
BEGIN:VEVENT
DTSTART;TZID=America/New_York:20171130T110000
DTEND;TZID=America/New_York:20171130T120000
DTSTAMP:20260425T144250
CREATED:20171006T233406Z
LAST-MODIFIED:20171006T233406Z
UID:23402-1512039600-1512043200@www.policymap.com
SUMMARY:Learning the basics of PolicyMap
DESCRIPTION:This overview will cover: basic user interface (searching for locations\, loading datasets\, saving & printing)\, unique custom functionality (creating custom boundaries\, editing ranges\, customizing colors\, etc)\, and highlighting specific datasets. \nWe will have plenty of time for questions and answers regarding PolicyMap. \nSign up
URL:/events/learning-basics-policymap-62
END:VEVENT
END:VCALENDAR