BEGIN:VCALENDAR
VERSION:2.0
PRODID:-//PolicyMap - ECPv6.15.20//NONSGML v1.0//EN
CALSCALE:GREGORIAN
METHOD:PUBLISH
X-WR-CALNAME:PolicyMap
X-ORIGINAL-URL:https://www.policymap.com
X-WR-CALDESC:Events for PolicyMap
REFRESH-INTERVAL;VALUE=DURATION:PT1H
X-Robots-Tag:noindex
X-PUBLISHED-TTL:PT1H
BEGIN:VTIMEZONE
TZID:America/New_York
BEGIN:DAYLIGHT
TZOFFSETFROM:-0500
TZOFFSETTO:-0400
TZNAME:EDT
DTSTART:20170312T070000
END:DAYLIGHT
BEGIN:STANDARD
TZOFFSETFROM:-0400
TZOFFSETTO:-0500
TZNAME:EST
DTSTART:20171105T060000
END:STANDARD
BEGIN:DAYLIGHT
TZOFFSETFROM:-0500
TZOFFSETTO:-0400
TZNAME:EDT
DTSTART:20180311T070000
END:DAYLIGHT
BEGIN:STANDARD
TZOFFSETFROM:-0400
TZOFFSETTO:-0500
TZNAME:EST
DTSTART:20181104T060000
END:STANDARD
BEGIN:DAYLIGHT
TZOFFSETFROM:-0500
TZOFFSETTO:-0400
TZNAME:EDT
DTSTART:20190310T070000
END:DAYLIGHT
BEGIN:STANDARD
TZOFFSETFROM:-0400
TZOFFSETTO:-0500
TZNAME:EST
DTSTART:20191103T060000
END:STANDARD
END:VTIMEZONE
BEGIN:VEVENT
DTSTART;TZID=America/New_York:20180904T140000
DTEND;TZID=America/New_York:20180904T150000
DTSTAMP:20260424T230010
CREATED:20180821T231754Z
LAST-MODIFIED:20180821T231754Z
UID:24738-1536069600-1536073200@www.policymap.com
SUMMARY:Learning the basics of PolicyMap
DESCRIPTION:This overview will cover: basic user interface (searching for locations\, loading datasets\, saving & printing)\, unique custom functionality (creating custom boundaries\, editing ranges\, customizing colors\, etc)\, and highlighting specific datasets. \nWe will have plenty of time for questions and answers regarding PolicyMap. \nSign up
URL:/events/learning-the-basics-of-policymap-23
END:VEVENT
BEGIN:VEVENT
DTSTART;TZID=America/New_York:20180905T110000
DTEND;TZID=America/New_York:20180905T120000
DTSTAMP:20260424T230010
CREATED:20180821T232039Z
LAST-MODIFIED:20180821T232039Z
UID:24746-1536145200-1536148800@www.policymap.com
SUMMARY:Learn the Data Loader\, Data Download\, 3-Layer Maps\, and other Advanced Features
DESCRIPTION:Thank you for joining us to learn more advanced features on PolicyMap. We hope you have already attended our Overview Training session to learn the basics of PolicyMap or at least have used the tool a bit.  \nIn this session\, we will cover the more advanced features of PolicyMap including the Data Loader\, Data Download\, and 3-Layer Maps.  \n• The Data Loader allows subscribers to quickly upload a point (address) dataset.\n• Downloading Data is as simple as a few clicks.\n• The 3-Layer Maps feature is the ability to overlay up to 3 layers of data.  \nThis session will also offer plenty of time for questions and answer\, and time permitting\, a chance to go through a user case study. \nSign up
URL:/events/learn-the-data-loader-data-download-3-layer-maps-and-other-advanced-features-20
END:VEVENT
BEGIN:VEVENT
DTSTART;TZID=America/New_York:20180912T150000
DTEND;TZID=America/New_York:20180912T160000
DTSTAMP:20260424T230010
CREATED:20180821T232129Z
LAST-MODIFIED:20180821T232129Z
UID:24748-1536764400-1536768000@www.policymap.com
SUMMARY:Learn the Data Loader\, Data Download\, 3-Layer Maps\, and other Advanced Features
DESCRIPTION:Thank you for joining us to learn more advanced features on PolicyMap. We hope you have already attended our Overview Training session to learn the basics of PolicyMap or at least have used the tool a bit.  \nIn this session\, we will cover the more advanced features of PolicyMap including the Data Loader\, Data Download\, and 3-Layer Maps.  \n• The Data Loader allows subscribers to quickly upload a point (address) dataset.\n• Downloading Data is as simple as a few clicks.\n• The 3-Layer Maps feature is the ability to overlay up to 3 layers of data.  \nThis session will also offer plenty of time for questions and answer\, and time permitting\, a chance to go through a user case study. \nSign up
URL:/events/learn-the-data-loader-data-download-3-layer-maps-and-other-advanced-features-21
END:VEVENT
BEGIN:VEVENT
DTSTART;TZID=America/New_York:20180913T110000
DTEND;TZID=America/New_York:20180913T120000
DTSTAMP:20260424T230010
CREATED:20180821T231837Z
LAST-MODIFIED:20180821T231837Z
UID:24740-1536836400-1536840000@www.policymap.com
SUMMARY:Learning the basics of PolicyMap
DESCRIPTION:This overview will cover: basic user interface (searching for locations\, loading datasets\, saving & printing)\, unique custom functionality (creating custom boundaries\, editing ranges\, customizing colors\, etc)\, and highlighting specific datasets. \nWe will have plenty of time for questions and answers regarding PolicyMap. \nSign up
URL:/events/learning-the-basics-of-policymap-24
END:VEVENT
BEGIN:VEVENT
DTSTART;TZID=America/New_York:20180918T140000
DTEND;TZID=America/New_York:20180918T150000
DTSTAMP:20260424T230010
CREATED:20180821T231913Z
LAST-MODIFIED:20180821T231913Z
UID:24742-1537279200-1537282800@www.policymap.com
SUMMARY:Learning the basics of PolicyMap
DESCRIPTION:This overview will cover: basic user interface (searching for locations\, loading datasets\, saving & printing)\, unique custom functionality (creating custom boundaries\, editing ranges\, customizing colors\, etc)\, and highlighting specific datasets. \nWe will have plenty of time for questions and answers regarding PolicyMap. \nSign up
URL:/events/learning-the-basics-of-policymap-25
END:VEVENT
BEGIN:VEVENT
DTSTART;TZID=America/New_York:20180919T110000
DTEND;TZID=America/New_York:20180919T120000
DTSTAMP:20260424T230010
CREATED:20180821T232211Z
LAST-MODIFIED:20180821T232211Z
UID:24750-1537354800-1537358400@www.policymap.com
SUMMARY:Learn the Data Loader\, Data Download\, 3-Layer Maps\, and other Advanced Features
DESCRIPTION:Thank you for joining us to learn more advanced features on PolicyMap. We hope you have already attended our Overview Training session to learn the basics of PolicyMap or at least have used the tool a bit.  \nIn this session\, we will cover the more advanced features of PolicyMap including the Data Loader\, Data Download\, and 3-Layer Maps.  \n• The Data Loader allows subscribers to quickly upload a point (address) dataset.\n• Downloading Data is as simple as a few clicks.\n• The 3-Layer Maps feature is the ability to overlay up to 3 layers of data.  \nThis session will also offer plenty of time for questions and answer\, and time permitting\, a chance to go through a user case study. \nSign up
URL:/events/learn-the-data-loader-data-download-3-layer-maps-and-other-advanced-features-22
END:VEVENT
BEGIN:VEVENT
DTSTART;TZID=America/New_York:20180926T150000
DTEND;TZID=America/New_York:20180926T160000
DTSTAMP:20260424T230010
CREATED:20180821T232302Z
LAST-MODIFIED:20180821T232302Z
UID:24752-1537974000-1537977600@www.policymap.com
SUMMARY:Learn the Data Loader\, Data Download\, 3-Layer Maps\, and other Advanced Features
DESCRIPTION:Thank you for joining us to learn more advanced features on PolicyMap. We hope you have already attended our Overview Training session to learn the basics of PolicyMap or at least have used the tool a bit.  \nIn this session\, we will cover the more advanced features of PolicyMap including the Data Loader\, Data Download\, and 3-Layer Maps.  \n• The Data Loader allows subscribers to quickly upload a point (address) dataset.\n• Downloading Data is as simple as a few clicks.\n• The 3-Layer Maps feature is the ability to overlay up to 3 layers of data.  \nThis session will also offer plenty of time for questions and answer\, and time permitting\, a chance to go through a user case study. \nSign up
URL:/events/learn-the-data-loader-data-download-3-layer-maps-and-other-advanced-features-23
END:VEVENT
BEGIN:VEVENT
DTSTART;TZID=America/New_York:20180927T110000
DTEND;TZID=America/New_York:20180927T120000
DTSTAMP:20260424T230010
CREATED:20180821T231949Z
LAST-MODIFIED:20180821T231949Z
UID:24744-1538046000-1538049600@www.policymap.com
SUMMARY:Learning the basics of PolicyMap
DESCRIPTION:This overview will cover: basic user interface (searching for locations\, loading datasets\, saving & printing)\, unique custom functionality (creating custom boundaries\, editing ranges\, customizing colors\, etc)\, and highlighting specific datasets. \nWe will have plenty of time for questions and answers regarding PolicyMap. \nSign up
URL:/events/learning-the-basics-of-policymap-26
END:VEVENT
END:VCALENDAR