BEGIN:VCALENDAR
VERSION:2.0
PRODID:-//PolicyMap - ECPv6.15.20//NONSGML v1.0//EN
CALSCALE:GREGORIAN
METHOD:PUBLISH
X-ORIGINAL-URL:https://www.policymap.com
X-WR-CALDESC:Events for PolicyMap
REFRESH-INTERVAL;VALUE=DURATION:PT1H
X-Robots-Tag:noindex
X-PUBLISHED-TTL:PT1H
BEGIN:VTIMEZONE
TZID:America/New_York
BEGIN:DAYLIGHT
TZOFFSETFROM:-0500
TZOFFSETTO:-0400
TZNAME:EDT
DTSTART:20180311T070000
END:DAYLIGHT
BEGIN:STANDARD
TZOFFSETFROM:-0400
TZOFFSETTO:-0500
TZNAME:EST
DTSTART:20181104T060000
END:STANDARD
BEGIN:DAYLIGHT
TZOFFSETFROM:-0500
TZOFFSETTO:-0400
TZNAME:EDT
DTSTART:20190310T070000
END:DAYLIGHT
BEGIN:STANDARD
TZOFFSETFROM:-0400
TZOFFSETTO:-0500
TZNAME:EST
DTSTART:20191103T060000
END:STANDARD
BEGIN:DAYLIGHT
TZOFFSETFROM:-0500
TZOFFSETTO:-0400
TZNAME:EDT
DTSTART:20200308T070000
END:DAYLIGHT
BEGIN:STANDARD
TZOFFSETFROM:-0400
TZOFFSETTO:-0500
TZNAME:EST
DTSTART:20201101T060000
END:STANDARD
END:VTIMEZONE
BEGIN:VEVENT
DTSTART;TZID=America/New_York:20190702T140000
DTEND;TZID=America/New_York:20190702T150000
DTSTAMP:20260424T074424
CREATED:20190604T192047Z
LAST-MODIFIED:20190604T192047Z
UID:26186-1562076000-1562079600@www.policymap.com
SUMMARY:Learning the basics of PolicyMap
DESCRIPTION:This overview will cover: basic user interface (searching for locations\, loading datasets\, saving & printing)\, unique custom functionality (creating custom boundaries\, editing ranges\, customizing colors\, etc)\, and highlighting specific datasets. \nWe will have plenty of time for questions and answers regarding PolicyMap. \nSign up
URL:/events/learning-the-basics-of-policymap-63
END:VEVENT
BEGIN:VEVENT
DTSTART;TZID=America/New_York:20190703T110000
DTEND;TZID=America/New_York:20190703T120000
DTSTAMP:20260424T074424
CREATED:20190604T192438Z
LAST-MODIFIED:20190604T192438Z
UID:26196-1562151600-1562155200@www.policymap.com
SUMMARY:Learn the Data Loader\, Data Download\, 3-Layer Maps\, and other Advanced Features
DESCRIPTION:Thank you for joining us to learn more advanced features on PolicyMap. We hope you have already attended our Overview Training session to learn the basics of PolicyMap or at least have used the tool a bit.  \nIn this session\, we will cover the more advanced features of PolicyMap including the Data Loader\, Data Download\, and 3-Layer Maps.  \n• The Data Loader allows subscribers to quickly upload a point (address) dataset.\n• Downloading Data is as simple as a few clicks.\n• The 3-Layer Maps feature is the ability to overlay up to 3 layers of data.  \nThis session will also offer plenty of time for questions and answer\, and time permitting\, a chance to go through a user case study. \nSign up
URL:/events/learn-the-data-loader-data-download-3-layer-maps-and-other-advanced-features-58
END:VEVENT
BEGIN:VEVENT
DTSTART;TZID=America/New_York:20190710T150000
DTEND;TZID=America/New_York:20190710T160000
DTSTAMP:20260424T074424
CREATED:20190604T192520Z
LAST-MODIFIED:20190604T192520Z
UID:26198-1562770800-1562774400@www.policymap.com
SUMMARY:Learn the Data Loader\, Data Download\, 3-Layer Maps\, and other Advanced Features
DESCRIPTION:Thank you for joining us to learn more advanced features on PolicyMap. We hope you have already attended our Overview Training session to learn the basics of PolicyMap or at least have used the tool a bit.  \nIn this session\, we will cover the more advanced features of PolicyMap including the Data Loader\, Data Download\, and 3-Layer Maps.  \n• The Data Loader allows subscribers to quickly upload a point (address) dataset.\n• Downloading Data is as simple as a few clicks.\n• The 3-Layer Maps feature is the ability to overlay up to 3 layers of data.  \nThis session will also offer plenty of time for questions and answer\, and time permitting\, a chance to go through a user case study. \nSign up
URL:/events/learn-the-data-loader-data-download-3-layer-maps-and-other-advanced-features-59
END:VEVENT
BEGIN:VEVENT
DTSTART;TZID=America/New_York:20190711T110000
DTEND;TZID=America/New_York:20190711T120000
DTSTAMP:20260424T074424
CREATED:20190604T192125Z
LAST-MODIFIED:20190604T192125Z
UID:26188-1562842800-1562846400@www.policymap.com
SUMMARY:Learning the basics of PolicyMap
DESCRIPTION:This overview will cover: basic user interface (searching for locations\, loading datasets\, saving & printing)\, unique custom functionality (creating custom boundaries\, editing ranges\, customizing colors\, etc)\, and highlighting specific datasets. \nWe will have plenty of time for questions and answers regarding PolicyMap. \nSign up
URL:/events/learning-the-basics-of-policymap-64
END:VEVENT
BEGIN:VEVENT
DTSTART;TZID=America/New_York:20190716T140000
DTEND;TZID=America/New_York:20190716T150000
DTSTAMP:20260424T074424
CREATED:20190604T192209Z
LAST-MODIFIED:20190604T192209Z
UID:26190-1563285600-1563289200@www.policymap.com
SUMMARY:Learning the basics of PolicyMap
DESCRIPTION:This overview will cover: basic user interface (searching for locations\, loading datasets\, saving & printing)\, unique custom functionality (creating custom boundaries\, editing ranges\, customizing colors\, etc)\, and highlighting specific datasets. \nWe will have plenty of time for questions and answers regarding PolicyMap. \nSign up
URL:/events/learning-the-basics-of-policymap-65
END:VEVENT
BEGIN:VEVENT
DTSTART;TZID=America/New_York:20190717T110000
DTEND;TZID=America/New_York:20190717T120000
DTSTAMP:20260424T074424
CREATED:20190604T192548Z
LAST-MODIFIED:20190604T192548Z
UID:26200-1563361200-1563364800@www.policymap.com
SUMMARY:Learn the Data Loader\, Data Download\, 3-Layer Maps\, and other Advanced Features
DESCRIPTION:Thank you for joining us to learn more advanced features on PolicyMap. We hope you have already attended our Overview Training session to learn the basics of PolicyMap or at least have used the tool a bit.  \nIn this session\, we will cover the more advanced features of PolicyMap including the Data Loader\, Data Download\, and 3-Layer Maps.  \n• The Data Loader allows subscribers to quickly upload a point (address) dataset.\n• Downloading Data is as simple as a few clicks.\n• The 3-Layer Maps feature is the ability to overlay up to 3 layers of data.  \nThis session will also offer plenty of time for questions and answer\, and time permitting\, a chance to go through a user case study. \nSign up
URL:/events/learn-the-data-loader-data-download-3-layer-maps-and-other-advanced-features-60
END:VEVENT
BEGIN:VEVENT
DTSTART;TZID=America/New_York:20190724T130000
DTEND;TZID=America/New_York:20190724T140000
DTSTAMP:20260424T074424
CREATED:20190604T192621Z
LAST-MODIFIED:20190604T192621Z
UID:26202-1563973200-1563976800@www.policymap.com
SUMMARY:Learn the Data Loader\, Data Download\, 3-Layer Maps\, and other Advanced Features
DESCRIPTION:Thank you for joining us to learn more advanced features on PolicyMap. We hope you have already attended our Overview Training session to learn the basics of PolicyMap or at least have used the tool a bit.  \nIn this session\, we will cover the more advanced features of PolicyMap including the Data Loader\, Data Download\, and 3-Layer Maps.  \n• The Data Loader allows subscribers to quickly upload a point (address) dataset.\n• Downloading Data is as simple as a few clicks.\n• The 3-Layer Maps feature is the ability to overlay up to 3 layers of data.  \nThis session will also offer plenty of time for questions and answer\, and time permitting\, a chance to go through a user case study. \nSign up
URL:/events/learn-the-data-loader-data-download-3-layer-maps-and-other-advanced-features-61
END:VEVENT
BEGIN:VEVENT
DTSTART;TZID=America/New_York:20190725T110000
DTEND;TZID=America/New_York:20190725T120000
DTSTAMP:20260424T074424
CREATED:20190604T192301Z
LAST-MODIFIED:20190604T192301Z
UID:26192-1564052400-1564056000@www.policymap.com
SUMMARY:Learning the basics of PolicyMap
DESCRIPTION:This overview will cover: basic user interface (searching for locations\, loading datasets\, saving & printing)\, unique custom functionality (creating custom boundaries\, editing ranges\, customizing colors\, etc)\, and highlighting specific datasets. \nWe will have plenty of time for questions and answers regarding PolicyMap. \nSign up
URL:/events/learning-the-basics-of-policymap-66
END:VEVENT
BEGIN:VEVENT
DTSTART;TZID=America/New_York:20190730T140000
DTEND;TZID=America/New_York:20190730T150000
DTSTAMP:20260424T074424
CREATED:20190604T192352Z
LAST-MODIFIED:20190604T192352Z
UID:26194-1564495200-1564498800@www.policymap.com
SUMMARY:Learning the basics of PolicyMap
DESCRIPTION:This overview will cover: basic user interface (searching for locations\, loading datasets\, saving & printing)\, unique custom functionality (creating custom boundaries\, editing ranges\, customizing colors\, etc)\, and highlighting specific datasets. \nWe will have plenty of time for questions and answers regarding PolicyMap. \nSign up
URL:/events/learning-the-basics-of-policymap-67
END:VEVENT
BEGIN:VEVENT
DTSTART;TZID=America/New_York:20190731T110000
DTEND;TZID=America/New_York:20190731T120000
DTSTAMP:20260424T074424
CREATED:20190604T192651Z
LAST-MODIFIED:20190604T192651Z
UID:26204-1564570800-1564574400@www.policymap.com
SUMMARY:Learn the Data Loader\, Data Download\, 3-Layer Maps\, and other Advanced Features
DESCRIPTION:Thank you for joining us to learn more advanced features on PolicyMap. We hope you have already attended our Overview Training session to learn the basics of PolicyMap or at least have used the tool a bit.  \nIn this session\, we will cover the more advanced features of PolicyMap including the Data Loader\, Data Download\, and 3-Layer Maps.  \n• The Data Loader allows subscribers to quickly upload a point (address) dataset.\n• Downloading Data is as simple as a few clicks.\n• The 3-Layer Maps feature is the ability to overlay up to 3 layers of data.  \nThis session will also offer plenty of time for questions and answer\, and time permitting\, a chance to go through a user case study. \nSign up
URL:/events/learn-the-data-loader-data-download-3-layer-maps-and-other-advanced-features-62
END:VEVENT
END:VCALENDAR