BEGIN:VCALENDAR
VERSION:2.0
PRODID:-//PolicyMap - ECPv6.15.20//NONSGML v1.0//EN
CALSCALE:GREGORIAN
METHOD:PUBLISH
X-WR-CALNAME:PolicyMap
X-ORIGINAL-URL:https://www.policymap.com
X-WR-CALDESC:Events for PolicyMap
REFRESH-INTERVAL;VALUE=DURATION:PT1H
X-Robots-Tag:noindex
X-PUBLISHED-TTL:PT1H
BEGIN:VTIMEZONE
TZID:America/New_York
BEGIN:DAYLIGHT
TZOFFSETFROM:-0500
TZOFFSETTO:-0400
TZNAME:EDT
DTSTART:20190310T070000
END:DAYLIGHT
BEGIN:STANDARD
TZOFFSETFROM:-0400
TZOFFSETTO:-0500
TZNAME:EST
DTSTART:20191103T060000
END:STANDARD
BEGIN:DAYLIGHT
TZOFFSETFROM:-0500
TZOFFSETTO:-0400
TZNAME:EDT
DTSTART:20200308T070000
END:DAYLIGHT
BEGIN:STANDARD
TZOFFSETFROM:-0400
TZOFFSETTO:-0500
TZNAME:EST
DTSTART:20201101T060000
END:STANDARD
BEGIN:DAYLIGHT
TZOFFSETFROM:-0500
TZOFFSETTO:-0400
TZNAME:EDT
DTSTART:20210314T070000
END:DAYLIGHT
BEGIN:STANDARD
TZOFFSETFROM:-0400
TZOFFSETTO:-0500
TZNAME:EST
DTSTART:20211107T060000
END:STANDARD
END:VTIMEZONE
BEGIN:VEVENT
DTSTART;TZID=America/New_York:20200102T140000
DTEND;TZID=America/New_York:20200102T150000
DTSTAMP:20260423T225937
CREATED:20191212T144926Z
LAST-MODIFIED:20191212T144926Z
UID:27142-1577973600-1577977200@www.policymap.com
SUMMARY:Learn the Data Loader\, Data Download\, 3-Layer Maps\, and other Advanced Features
DESCRIPTION:Thank you for joining us to learn more advanced features on PolicyMap. We hope you have already attended our Overview Training session to learn the basics of PolicyMap or at least have used the tool a bit.  \nIn this session\, we will cover the more advanced features of PolicyMap including the Data Loader\, Data Download\, and 3-Layer Maps.  \n• The Data Loader allows subscribers to quickly upload a point (address) dataset.\n• Downloading Data is as simple as a few clicks.\n• The 3-Layer Maps feature is the ability to overlay up to 3 layers of data.  \nThis session will also offer plenty of time for questions and answer\, and time permitting\, a chance to go through a user case study. \nSign up
URL:/events/learn-the-data-loader-data-download-3-layer-maps-and-other-advanced-features-83
END:VEVENT
BEGIN:VEVENT
DTSTART;TZID=America/New_York:20200107T140000
DTEND;TZID=America/New_York:20200107T150000
DTSTAMP:20260423T225937
CREATED:20191212T144010Z
LAST-MODIFIED:20191212T144010Z
UID:27126-1578405600-1578409200@www.policymap.com
SUMMARY:Learning the basics of PolicyMap
DESCRIPTION:This overview will cover: basic user interface (searching for locations\, loading datasets\, saving & printing)\, unique custom functionality (creating custom boundaries\, editing ranges\, customizing colors\, etc)\, and highlighting specific datasets. \nWe will have plenty of time for questions and answers regarding PolicyMap. \nSign up
URL:/events/learning-the-basics-of-policymap-90
END:VEVENT
BEGIN:VEVENT
DTSTART;TZID=America/New_York:20200108T110000
DTEND;TZID=America/New_York:20200108T120000
DTSTAMP:20260423T225937
CREATED:20191212T145005Z
LAST-MODIFIED:20191212T145005Z
UID:27144-1578481200-1578484800@www.policymap.com
SUMMARY:Learn the Data Loader\, Data Download\, 3-Layer Maps\, and other Advanced Features
DESCRIPTION:Thank you for joining us to learn more advanced features on PolicyMap. We hope you have already attended our Overview Training session to learn the basics of PolicyMap or at least have used the tool a bit.  \nIn this session\, we will cover the more advanced features of PolicyMap including the Data Loader\, Data Download\, and 3-Layer Maps.  \n• The Data Loader allows subscribers to quickly upload a point (address) dataset.\n• Downloading Data is as simple as a few clicks.\n• The 3-Layer Maps feature is the ability to overlay up to 3 layers of data.  \nThis session will also offer plenty of time for questions and answer\, and time permitting\, a chance to go through a user case study. \nSign up
URL:/events/learn-the-data-loader-data-download-3-layer-maps-and-other-advanced-features-84
END:VEVENT
BEGIN:VEVENT
DTSTART;TZID=America/New_York:20200114T110000
DTEND;TZID=America/New_York:20200114T120000
DTSTAMP:20260423T225937
CREATED:20191212T144049Z
LAST-MODIFIED:20191212T144049Z
UID:27128-1578999600-1579003200@www.policymap.com
SUMMARY:Learning the basics of PolicyMap
DESCRIPTION:This overview will cover: basic user interface (searching for locations\, loading datasets\, saving & printing)\, unique custom functionality (creating custom boundaries\, editing ranges\, customizing colors\, etc)\, and highlighting specific datasets. \nWe will have plenty of time for questions and answers regarding PolicyMap. \nSign up
URL:/events/learning-the-basics-of-policymap-91
END:VEVENT
BEGIN:VEVENT
DTSTART;TZID=America/New_York:20200115T150000
DTEND;TZID=America/New_York:20200115T160000
DTSTAMP:20260423T225937
CREATED:20191212T145040Z
LAST-MODIFIED:20191212T145040Z
UID:27146-1579100400-1579104000@www.policymap.com
SUMMARY:Learn the Data Loader\, Data Download\, 3-Layer Maps\, and other Advanced Features
DESCRIPTION:Thank you for joining us to learn more advanced features on PolicyMap. We hope you have already attended our Overview Training session to learn the basics of PolicyMap or at least have used the tool a bit.  \nIn this session\, we will cover the more advanced features of PolicyMap including the Data Loader\, Data Download\, and 3-Layer Maps.  \n• The Data Loader allows subscribers to quickly upload a point (address) dataset.\n• Downloading Data is as simple as a few clicks.\n• The 3-Layer Maps feature is the ability to overlay up to 3 layers of data.  \nThis session will also offer plenty of time for questions and answer\, and time permitting\, a chance to go through a user case study. \nSign up
URL:/events/learn-the-data-loader-data-download-3-layer-maps-and-other-advanced-features-85
END:VEVENT
BEGIN:VEVENT
DTSTART;TZID=America/New_York:20200121T150000
DTEND;TZID=America/New_York:20200121T160000
DTSTAMP:20260423T225937
CREATED:20191212T145117Z
LAST-MODIFIED:20191212T145117Z
UID:27148-1579618800-1579622400@www.policymap.com
SUMMARY:Learn the Data Loader\, Data Download\, 3-Layer Maps\, and other Advanced Features
DESCRIPTION:Thank you for joining us to learn more advanced features on PolicyMap. We hope you have already attended our Overview Training session to learn the basics of PolicyMap or at least have used the tool a bit. \nIn this session\, we will cover the more advanced features of PolicyMap including the Data Loader\, Data Download\, and 3-Layer Maps. \n• The Data Loader allows subscribers to quickly upload a point (address) dataset.\n• Downloading Data is as simple as a few clicks.\n• The 3-Layer Maps feature is the ability to overlay up to 3 layers of data. \nThis session will also offer plenty of time for questions and answer\, and time permitting\, a chance to go through a user case study. \nSign up
URL:/events/learn-the-data-loader-data-download-3-layer-maps-and-other-advanced-features-86
END:VEVENT
BEGIN:VEVENT
DTSTART;TZID=America/New_York:20200123T140000
DTEND;TZID=America/New_York:20200123T150000
DTSTAMP:20260423T225937
CREATED:20191212T144129Z
LAST-MODIFIED:20191212T144129Z
UID:27130-1579788000-1579791600@www.policymap.com
SUMMARY:Learning the basics of PolicyMap
DESCRIPTION:This overview will cover: basic user interface (searching for locations\, loading datasets\, saving & printing)\, unique custom functionality (creating custom boundaries\, editing ranges\, customizing colors\, etc)\, and highlighting specific datasets. \nWe will have plenty of time for questions and answers regarding PolicyMap. \nSign up
URL:/events/learning-the-basics-of-policymap-92
END:VEVENT
BEGIN:VEVENT
DTSTART;TZID=America/New_York:20200128T140000
DTEND;TZID=America/New_York:20200128T150000
DTSTAMP:20260423T225937
CREATED:20191212T144330Z
LAST-MODIFIED:20191212T144330Z
UID:27132-1580220000-1580223600@www.policymap.com
SUMMARY:Learning the basics of PolicyMap
DESCRIPTION:This overview will cover: basic user interface (searching for locations\, loading datasets\, saving & printing)\, unique custom functionality (creating custom boundaries\, editing ranges\, customizing colors\, etc)\, and highlighting specific datasets. \nWe will have plenty of time for questions and answers regarding PolicyMap. \nSign up
URL:/events/learning-the-basics-of-policymap-93
END:VEVENT
BEGIN:VEVENT
DTSTART;TZID=America/New_York:20200129T150000
DTEND;TZID=America/New_York:20200129T160000
DTSTAMP:20260423T225937
CREATED:20191212T145157Z
LAST-MODIFIED:20191212T145157Z
UID:27150-1580310000-1580313600@www.policymap.com
SUMMARY:Learn the Data Loader\, Data Download\, 3-Layer Maps\, and other Advanced Features
DESCRIPTION:Thank you for joining us to learn more advanced features on PolicyMap. We hope you have already attended our Overview Training session to learn the basics of PolicyMap or at least have used the tool a bit.  \nIn this session\, we will cover the more advanced features of PolicyMap including the Data Loader\, Data Download\, and 3-Layer Maps.  \n• The Data Loader allows subscribers to quickly upload a point (address) dataset.\n• Downloading Data is as simple as a few clicks.\n• The 3-Layer Maps feature is the ability to overlay up to 3 layers of data.  \nThis session will also offer plenty of time for questions and answer\, and time permitting\, a chance to go through a user case study. \nSign up
URL:/events/learn-the-data-loader-data-download-3-layer-maps-and-other-advanced-features-87
END:VEVENT
END:VCALENDAR