BEGIN:VCALENDAR
VERSION:2.0
PRODID:-//PolicyMap - ECPv6.15.20//NONSGML v1.0//EN
CALSCALE:GREGORIAN
METHOD:PUBLISH
X-WR-CALNAME:PolicyMap
X-ORIGINAL-URL:https://www.policymap.com
X-WR-CALDESC:Events for PolicyMap
REFRESH-INTERVAL;VALUE=DURATION:PT1H
X-Robots-Tag:noindex
X-PUBLISHED-TTL:PT1H
BEGIN:VTIMEZONE
TZID:America/New_York
BEGIN:DAYLIGHT
TZOFFSETFROM:-0500
TZOFFSETTO:-0400
TZNAME:EDT
DTSTART:20190310T070000
END:DAYLIGHT
BEGIN:STANDARD
TZOFFSETFROM:-0400
TZOFFSETTO:-0500
TZNAME:EST
DTSTART:20191103T060000
END:STANDARD
BEGIN:DAYLIGHT
TZOFFSETFROM:-0500
TZOFFSETTO:-0400
TZNAME:EDT
DTSTART:20200308T070000
END:DAYLIGHT
BEGIN:STANDARD
TZOFFSETFROM:-0400
TZOFFSETTO:-0500
TZNAME:EST
DTSTART:20201101T060000
END:STANDARD
BEGIN:DAYLIGHT
TZOFFSETFROM:-0500
TZOFFSETTO:-0400
TZNAME:EDT
DTSTART:20210314T070000
END:DAYLIGHT
BEGIN:STANDARD
TZOFFSETFROM:-0400
TZOFFSETTO:-0500
TZNAME:EST
DTSTART:20211107T060000
END:STANDARD
END:VTIMEZONE
BEGIN:VEVENT
DTSTART;TZID=America/New_York:20200505T110000
DTEND;TZID=America/New_York:20200505T120000
DTSTAMP:20260423T171355
CREATED:20200416T154136Z
LAST-MODIFIED:20200416T154136Z
UID:27659-1588676400-1588680000@www.policymap.com
SUMMARY:Learning the basics of PolicyMap
DESCRIPTION:This overview will cover: basic user interface (searching for locations\, loading datasets\, saving & printing)\, unique custom functionality (creating custom boundaries\, editing ranges\, customizing colors\, etc)\, and highlighting specific datasets. \nWe will have plenty of time for questions and answers regarding PolicyMap. \nSign up
URL:/events/27659
END:VEVENT
BEGIN:VEVENT
DTSTART;TZID=America/New_York:20200506T130000
DTEND;TZID=America/New_York:20200506T140000
DTSTAMP:20260423T171355
CREATED:20200416T155126Z
LAST-MODIFIED:20200416T155126Z
UID:27669-1588770000-1588773600@www.policymap.com
SUMMARY:Learn the Data Loader\, Multi-Maps\, and other Advanced Features of PolicyMap
DESCRIPTION:Thank you for joining us to learn more advanced features on PolicyMap. We hope you have already attended our Overview Training session to learn the basics of PolicyMap or at least have used the tool a bit.  \nIn this session\, we will cover the more advanced features of PolicyMap including the Data Loader\, Data Download\, and Multi-Maps.  \n• The Data Loader allows subscribers to quickly upload a point (address) dataset.\n• Downloading Data is as simple as a few clicks.\n• The Multi-Maps feature is the ability to overlay up to 5 layers of data.  \nThis session will also offer plenty of time for questions and answer\, and time permitting\, a chance to go through a user case study. \nSign up
URL:/events/learn-the-data-loader-multi-maps-and-other-advanced-features-of-policymap-3
END:VEVENT
BEGIN:VEVENT
DTSTART;TZID=America/New_York:20200513T110000
DTEND;TZID=America/New_York:20200513T120000
DTSTAMP:20260423T171355
CREATED:20200416T155247Z
LAST-MODIFIED:20200416T155247Z
UID:27671-1589367600-1589371200@www.policymap.com
SUMMARY:Learn the Data Loader\, Multi-Maps\, and other Advanced Features of PolicyMap
DESCRIPTION:Thank you for joining us to learn more advanced features on PolicyMap. We hope you have already attended our Overview Training session to learn the basics of PolicyMap or at least have used the tool a bit.  \nIn this session\, we will cover the more advanced features of PolicyMap including the Data Loader\, Data Download\, and Multi-Maps.  \n• The Data Loader allows subscribers to quickly upload a point (address) dataset.\n• Downloading Data is as simple as a few clicks.\n• The Multi-Maps feature is the ability to overlay up to 5 layers of data.  \nThis session will also offer plenty of time for questions and answer\, and time permitting\, a chance to go through a user case study. \nSign up
URL:/events/learn-the-data-loader-multi-maps-and-other-advanced-features-of-policymap-4
END:VEVENT
BEGIN:VEVENT
DTSTART;TZID=America/New_York:20200514T140000
DTEND;TZID=America/New_York:20200514T150000
DTSTAMP:20260423T171355
CREATED:20200416T154231Z
LAST-MODIFIED:20200416T154231Z
UID:27661-1589464800-1589468400@www.policymap.com
SUMMARY:Learning the basics of PolicyMap
DESCRIPTION:This overview will cover: basic user interface (searching for locations\, loading datasets\, saving & printing)\, unique custom functionality (creating custom boundaries\, editing ranges\, customizing colors\, etc)\, and highlighting specific datasets. \nWe will have plenty of time for questions and answers regarding PolicyMap. \nSign up
URL:/events/learning-the-basics-of-policymap-103
END:VEVENT
BEGIN:VEVENT
DTSTART;TZID=America/New_York:20200519T110000
DTEND;TZID=America/New_York:20200519T120000
DTSTAMP:20260423T171355
CREATED:20200416T154559Z
LAST-MODIFIED:20200416T154559Z
UID:27664-1589886000-1589889600@www.policymap.com
SUMMARY:Learning the basics of PolicyMap
DESCRIPTION:This overview will cover: basic user interface (searching for locations\, loading datasets\, saving & printing)\, unique custom functionality (creating custom boundaries\, editing ranges\, customizing colors\, etc)\, and highlighting specific datasets. \nWe will have plenty of time for questions and answers regarding PolicyMap. \nSign up
URL:/events/learning-the-basics-of-policymap-104
END:VEVENT
BEGIN:VEVENT
DTSTART;TZID=America/New_York:20200520T150000
DTEND;TZID=America/New_York:20200520T160000
DTSTAMP:20260423T171355
CREATED:20200416T155519Z
LAST-MODIFIED:20200416T155519Z
UID:27673-1589986800-1589990400@www.policymap.com
SUMMARY:Learn the Data Loader\, Multi-Maps\, and other Advanced Features of PolicyMap
DESCRIPTION:Thank you for joining us to learn more advanced features on PolicyMap. We hope you have already attended our Overview Training session to learn the basics of PolicyMap or at least have used the tool a bit.  \nIn this session\, we will cover the more advanced features of PolicyMap including the Data Loader\, Data Download\, and Multi-Maps.  \n• The Data Loader allows subscribers to quickly upload a point (address) dataset.\n• Downloading Data is as simple as a few clicks.\n• The Multi-Maps feature is the ability to overlay up to 5 layers of data.  \nThis session will also offer plenty of time for questions and answer\, and time permitting\, a chance to go through a user case study. \nSign up
URL:/events/learn-the-data-loader-multi-maps-and-other-advanced-features-of-policymap-5
END:VEVENT
BEGIN:VEVENT
DTSTART;TZID=America/New_York:20200527T110000
DTEND;TZID=America/New_York:20200527T120000
DTSTAMP:20260423T171355
CREATED:20200416T155553Z
LAST-MODIFIED:20200416T155553Z
UID:27675-1590577200-1590580800@www.policymap.com
SUMMARY:Learn the Data Loader\, Multi-Maps\, and other Advanced Features of PolicyMap
DESCRIPTION:Thank you for joining us to learn more advanced features on PolicyMap. We hope you have already attended our Overview Training session to learn the basics of PolicyMap or at least have used the tool a bit.  \nIn this session\, we will cover the more advanced features of PolicyMap including the Data Loader\, Data Download\, and Multi-Maps.  \n• The Data Loader allows subscribers to quickly upload a point (address) dataset.\n• Downloading Data is as simple as a few clicks.\n• The Multi-Maps feature is the ability to overlay up to 5 layers of data.  \nThis session will also offer plenty of time for questions and answer\, and time permitting\, a chance to go through a user case study. \nSign up
URL:/events/learn-the-data-loader-multi-maps-and-other-advanced-features-of-policymap-6
END:VEVENT
BEGIN:VEVENT
DTSTART;TZID=America/New_York:20200528T140000
DTEND;TZID=America/New_York:20200528T150000
DTSTAMP:20260423T171355
CREATED:20200416T154633Z
LAST-MODIFIED:20200416T154633Z
UID:27666-1590674400-1590678000@www.policymap.com
SUMMARY:Learning the basics of PolicyMap
DESCRIPTION:This overview will cover: basic user interface (searching for locations\, loading datasets\, saving & printing)\, unique custom functionality (creating custom boundaries\, editing ranges\, customizing colors\, etc)\, and highlighting specific datasets. \nWe will have plenty of time for questions and answers regarding PolicyMap. \nSign up
URL:/events/learning-the-basics-of-policymap-105
END:VEVENT
END:VCALENDAR