BEGIN:VCALENDAR
VERSION:2.0
PRODID:-//PolicyMap - ECPv6.15.20//NONSGML v1.0//EN
CALSCALE:GREGORIAN
METHOD:PUBLISH
X-WR-CALNAME:PolicyMap
X-ORIGINAL-URL:https://www.policymap.com
X-WR-CALDESC:Events for PolicyMap
REFRESH-INTERVAL;VALUE=DURATION:PT1H
X-Robots-Tag:noindex
X-PUBLISHED-TTL:PT1H
BEGIN:VTIMEZONE
TZID:America/New_York
BEGIN:DAYLIGHT
TZOFFSETFROM:-0500
TZOFFSETTO:-0400
TZNAME:EDT
DTSTART:20190310T070000
END:DAYLIGHT
BEGIN:STANDARD
TZOFFSETFROM:-0400
TZOFFSETTO:-0500
TZNAME:EST
DTSTART:20191103T060000
END:STANDARD
BEGIN:DAYLIGHT
TZOFFSETFROM:-0500
TZOFFSETTO:-0400
TZNAME:EDT
DTSTART:20200308T070000
END:DAYLIGHT
BEGIN:STANDARD
TZOFFSETFROM:-0400
TZOFFSETTO:-0500
TZNAME:EST
DTSTART:20201101T060000
END:STANDARD
BEGIN:DAYLIGHT
TZOFFSETFROM:-0500
TZOFFSETTO:-0400
TZNAME:EDT
DTSTART:20210314T070000
END:DAYLIGHT
BEGIN:STANDARD
TZOFFSETFROM:-0400
TZOFFSETTO:-0500
TZNAME:EST
DTSTART:20211107T060000
END:STANDARD
END:VTIMEZONE
BEGIN:VEVENT
DTSTART;TZID=America/New_York:20200811T110000
DTEND;TZID=America/New_York:20200811T120000
DTSTAMP:20260423T124529
CREATED:20200708T172640Z
LAST-MODIFIED:20200708T172640Z
UID:28421-1597143600-1597147200@www.policymap.com
SUMMARY:Learning the basics of PolicyMap
DESCRIPTION:This overview will cover: basic user interface (searching for locations\, loading datasets\, saving & printing)\, unique custom functionality (creating custom boundaries\, editing ranges\, customizing colors\, etc)\, and highlighting specific datasets. \nWe will have plenty of time for questions and answers regarding PolicyMap. \nSign up
URL:/events/learning-the-basics-of-policymap-114
END:VEVENT
BEGIN:VEVENT
DTSTART;TZID=America/New_York:20200812T150000
DTEND;TZID=America/New_York:20200812T160000
DTSTAMP:20260423T124529
CREATED:20200708T173650Z
LAST-MODIFIED:20200708T173650Z
UID:28435-1597244400-1597248000@www.policymap.com
SUMMARY:Learn the Data Loader\, Multi-Layer Maps\, and other Advanced Features of PolicyMap
DESCRIPTION:Thank you for joining us to learn more advanced features on PolicyMap. We hope you have already attended our Overview Training session to learn the basics of PolicyMap or at least have used the tool a bit.  \nIn this session\, we will cover the more advanced features of PolicyMap including the Data Loader\, Data Download\, and Multi-Layer Maps.  \n• The Data Loader allows subscribers to quickly upload a point (address) dataset.\n• Downloading Data is as simple as a few clicks.\n• The Multi-Maps feature is the ability to overlay up to 5 layers of data.  \nThis session will also offer plenty of time for questions and answer\, and time permitting\, a chance to go through a user case study. \nSign up
URL:/events/learn-the-data-loader-multi-layer-maps-and-other-advanced-features-of-policymap-9
END:VEVENT
BEGIN:VEVENT
DTSTART;TZID=America/New_York:20200819T110000
DTEND;TZID=America/New_York:20200819T120000
DTSTAMP:20260423T124529
CREATED:20200708T173734Z
LAST-MODIFIED:20200708T173734Z
UID:28437-1597834800-1597838400@www.policymap.com
SUMMARY:Learn the Data Loader\, Multi-Layer Maps\, and other Advanced Features of PolicyMap
DESCRIPTION:Thank you for joining us to learn more advanced features on PolicyMap. We hope you have already attended our Overview Training session to learn the basics of PolicyMap or at least have used the tool a bit.  \nIn this session\, we will cover the more advanced features of PolicyMap including the Data Loader\, Data Download\, and Multi-Layer Maps.  \n• The Data Loader allows subscribers to quickly upload a point (address) dataset.\n• Downloading Data is as simple as a few clicks.\n• The Multi-Maps feature is the ability to overlay up to 5 layers of data.  \nThis session will also offer plenty of time for questions and answer\, and time permitting\, a chance to go through a user case study. \nSign up
URL:/events/learn-the-data-loader-multi-layer-maps-and-other-advanced-features-of-policymap-10
END:VEVENT
BEGIN:VEVENT
DTSTART;TZID=America/New_York:20200820T140000
DTEND;TZID=America/New_York:20200820T150000
DTSTAMP:20260423T124529
CREATED:20200708T172712Z
LAST-MODIFIED:20200708T172712Z
UID:28423-1597932000-1597935600@www.policymap.com
SUMMARY:Learning the basics of PolicyMap
DESCRIPTION:This overview will cover: basic user interface (searching for locations\, loading datasets\, saving & printing)\, unique custom functionality (creating custom boundaries\, editing ranges\, customizing colors\, etc)\, and highlighting specific datasets. \nWe will have plenty of time for questions and answers regarding PolicyMap. \nSign up
URL:/events/learning-the-basics-of-policymap-115
END:VEVENT
BEGIN:VEVENT
DTSTART;TZID=America/New_York:20200825T110000
DTEND;TZID=America/New_York:20200825T120000
DTSTAMP:20260423T124529
CREATED:20200708T172803Z
LAST-MODIFIED:20200708T172803Z
UID:28425-1598353200-1598356800@www.policymap.com
SUMMARY:Learning the basics of PolicyMap
DESCRIPTION:This overview will cover: basic user interface (searching for locations\, loading datasets\, saving & printing)\, unique custom functionality (creating custom boundaries\, editing ranges\, customizing colors\, etc)\, and highlighting specific datasets. \nWe will have plenty of time for questions and answers regarding PolicyMap. \nSign up
URL:/events/learning-the-basics-of-policymap-116
END:VEVENT
BEGIN:VEVENT
DTSTART;TZID=America/New_York:20200826T130000
DTEND;TZID=America/New_York:20200826T140000
DTSTAMP:20260423T124529
CREATED:20200708T173810Z
LAST-MODIFIED:20200708T173810Z
UID:28439-1598446800-1598450400@www.policymap.com
SUMMARY:Learn the Data Loader\, Multi-Layer Maps\, and other Advanced Features of PolicyMap
DESCRIPTION:Thank you for joining us to learn more advanced features on PolicyMap. We hope you have already attended our Overview Training session to learn the basics of PolicyMap or at least have used the tool a bit.  \nIn this session\, we will cover the more advanced features of PolicyMap including the Data Loader\, Data Download\, and Multi-Layer Maps.  \n• The Data Loader allows subscribers to quickly upload a point (address) dataset.\n• Downloading Data is as simple as a few clicks.\n• The Multi-Maps feature is the ability to overlay up to 5 layers of data.  \nThis session will also offer plenty of time for questions and answer\, and time permitting\, a chance to go through a user case study. \nSign up
URL:/events/learn-the-data-loader-multi-layer-maps-and-other-advanced-features-of-policymap-11
END:VEVENT
END:VCALENDAR