BEGIN:VCALENDAR
VERSION:2.0
PRODID:-//PolicyMap - ECPv6.15.20//NONSGML v1.0//EN
CALSCALE:GREGORIAN
METHOD:PUBLISH
X-ORIGINAL-URL:https://www.policymap.com
X-WR-CALDESC:Events for PolicyMap
REFRESH-INTERVAL;VALUE=DURATION:PT1H
X-Robots-Tag:noindex
X-PUBLISHED-TTL:PT1H
BEGIN:VTIMEZONE
TZID:America/New_York
BEGIN:DAYLIGHT
TZOFFSETFROM:-0500
TZOFFSETTO:-0400
TZNAME:EDT
DTSTART:20190310T070000
END:DAYLIGHT
BEGIN:STANDARD
TZOFFSETFROM:-0400
TZOFFSETTO:-0500
TZNAME:EST
DTSTART:20191103T060000
END:STANDARD
BEGIN:DAYLIGHT
TZOFFSETFROM:-0500
TZOFFSETTO:-0400
TZNAME:EDT
DTSTART:20200308T070000
END:DAYLIGHT
BEGIN:STANDARD
TZOFFSETFROM:-0400
TZOFFSETTO:-0500
TZNAME:EST
DTSTART:20201101T060000
END:STANDARD
BEGIN:DAYLIGHT
TZOFFSETFROM:-0500
TZOFFSETTO:-0400
TZNAME:EDT
DTSTART:20210314T070000
END:DAYLIGHT
BEGIN:STANDARD
TZOFFSETFROM:-0400
TZOFFSETTO:-0500
TZNAME:EST
DTSTART:20211107T060000
END:STANDARD
END:VTIMEZONE
BEGIN:VEVENT
DTSTART;TZID=America/New_York:20200902T110000
DTEND;TZID=America/New_York:20200902T120000
DTSTAMP:20260423T111645
CREATED:20200708T173912Z
LAST-MODIFIED:20200708T173912Z
UID:28441-1599044400-1599048000@www.policymap.com
SUMMARY:Learn the Data Loader\, Multi-Layer Maps\, and other Advanced Features of PolicyMap
DESCRIPTION:Thank you for joining us to learn more advanced features on PolicyMap. We hope you have already attended our Overview Training session to learn the basics of PolicyMap or at least have used the tool a bit.  \nIn this session\, we will cover the more advanced features of PolicyMap including the Data Loader\, Data Download\, and Multi-Layer Maps.  \n• The Data Loader allows subscribers to quickly upload a point (address) dataset.\n• Downloading Data is as simple as a few clicks.\n• The Multi-Maps feature is the ability to overlay up to 5 layers of data.  \nThis session will also offer plenty of time for questions and answer\, and time permitting\, a chance to go through a user case study. \nSign up
URL:/events/learn-the-data-loader-multi-layer-maps-and-other-advanced-features-of-policymap-12
END:VEVENT
BEGIN:VEVENT
DTSTART;TZID=America/New_York:20200903T140000
DTEND;TZID=America/New_York:20200903T150000
DTSTAMP:20260423T111645
CREATED:20200708T172910Z
LAST-MODIFIED:20200708T172910Z
UID:28427-1599141600-1599145200@www.policymap.com
SUMMARY:Learning the basics of PolicyMap
DESCRIPTION:This overview will cover: basic user interface (searching for locations\, loading datasets\, saving & printing)\, unique custom functionality (creating custom boundaries\, editing ranges\, customizing colors\, etc)\, and highlighting specific datasets. \nWe will have plenty of time for questions and answers regarding PolicyMap. \nSign up
URL:/events/learning-the-basics-of-policymap-117
END:VEVENT
BEGIN:VEVENT
DTSTART;TZID=America/New_York:20200908T110000
DTEND;TZID=America/New_York:20200908T120000
DTSTAMP:20260423T111645
CREATED:20200708T172956Z
LAST-MODIFIED:20200708T172956Z
UID:28429-1599562800-1599566400@www.policymap.com
SUMMARY:Learning the basics of PolicyMap
DESCRIPTION:This overview will cover: basic user interface (searching for locations\, loading datasets\, saving & printing)\, unique custom functionality (creating custom boundaries\, editing ranges\, customizing colors\, etc)\, and highlighting specific datasets. \nWe will have plenty of time for questions and answers regarding PolicyMap. \nSign up
URL:/events/learning-the-basics-of-policymap-118
END:VEVENT
BEGIN:VEVENT
DTSTART;TZID=America/New_York:20200909T150000
DTEND;TZID=America/New_York:20200909T160000
DTSTAMP:20260423T111645
CREATED:20200708T173947Z
LAST-MODIFIED:20200708T173947Z
UID:28443-1599663600-1599667200@www.policymap.com
SUMMARY:Learn the Data Loader\, Multi-Layer Maps\, and other Advanced Features of PolicyMap
DESCRIPTION:Thank you for joining us to learn more advanced features on PolicyMap. We hope you have already attended our Overview Training session to learn the basics of PolicyMap or at least have used the tool a bit.  \nIn this session\, we will cover the more advanced features of PolicyMap including the Data Loader\, Data Download\, and Multi-Layer Maps.  \n• The Data Loader allows subscribers to quickly upload a point (address) dataset.\n• Downloading Data is as simple as a few clicks.\n• The Multi-Maps feature is the ability to overlay up to 5 layers of data.  \nThis session will also offer plenty of time for questions and answer\, and time permitting\, a chance to go through a user case study. \nSign up
URL:/events/learn-the-data-loader-multi-layer-maps-and-other-advanced-features-of-policymap-13
END:VEVENT
BEGIN:VEVENT
DTSTART;TZID=America/New_York:20200916T110000
DTEND;TZID=America/New_York:20200916T120000
DTSTAMP:20260423T111645
CREATED:20200708T174022Z
LAST-MODIFIED:20200708T174022Z
UID:28445-1600254000-1600257600@www.policymap.com
SUMMARY:Learn the Data Loader\, Multi-Layer Maps\, and other Advanced Features of PolicyMap
DESCRIPTION:Thank you for joining us to learn more advanced features on PolicyMap. We hope you have already attended our Overview Training session to learn the basics of PolicyMap or at least have used the tool a bit.  \nIn this session\, we will cover the more advanced features of PolicyMap including the Data Loader\, Data Download\, and Multi-Layer Maps.  \n• The Data Loader allows subscribers to quickly upload a point (address) dataset.\n• Downloading Data is as simple as a few clicks.\n• The Multi-Maps feature is the ability to overlay up to 5 layers of data.  \nThis session will also offer plenty of time for questions and answer\, and time permitting\, a chance to go through a user case study. \nSign up
URL:/events/learn-the-data-loader-multi-layer-maps-and-other-advanced-features-of-policymap-14
END:VEVENT
BEGIN:VEVENT
DTSTART;TZID=America/New_York:20200917T140000
DTEND;TZID=America/New_York:20200917T150000
DTSTAMP:20260423T111645
CREATED:20200708T173041Z
LAST-MODIFIED:20200708T173041Z
UID:28431-1600351200-1600354800@www.policymap.com
SUMMARY:Learning the basics of PolicyMap
DESCRIPTION:This overview will cover: basic user interface (searching for locations\, loading datasets\, saving & printing)\, unique custom functionality (creating custom boundaries\, editing ranges\, customizing colors\, etc)\, and highlighting specific datasets. \nWe will have plenty of time for questions and answers regarding PolicyMap. \nSign up
URL:/events/learning-the-basics-of-policymap-119
END:VEVENT
BEGIN:VEVENT
DTSTART;TZID=America/New_York:20200922T110000
DTEND;TZID=America/New_York:20200922T120000
DTSTAMP:20260423T111645
CREATED:20200708T173119Z
LAST-MODIFIED:20200708T173119Z
UID:28433-1600772400-1600776000@www.policymap.com
SUMMARY:Learning the basics of PolicyMap
DESCRIPTION:This overview will cover: basic user interface (searching for locations\, loading datasets\, saving & printing)\, unique custom functionality (creating custom boundaries\, editing ranges\, customizing colors\, etc)\, and highlighting specific datasets. \nWe will have plenty of time for questions and answers regarding PolicyMap. \nSign up
URL:/events/learning-the-basics-of-policymap-120
END:VEVENT
BEGIN:VEVENT
DTSTART;TZID=America/New_York:20200923T130000
DTEND;TZID=America/New_York:20200923T140000
DTSTAMP:20260423T111645
CREATED:20200708T174109Z
LAST-MODIFIED:20200708T174109Z
UID:28447-1600866000-1600869600@www.policymap.com
SUMMARY:Learn the Data Loader\, Multi-Layer Maps\, and other Advanced Features of PolicyMap
DESCRIPTION:Thank you for joining us to learn more advanced features on PolicyMap. We hope you have already attended our Overview Training session to learn the basics of PolicyMap or at least have used the tool a bit.  \nIn this session\, we will cover the more advanced features of PolicyMap including the Data Loader\, Data Download\, and Multi-Layer Maps.  \n• The Data Loader allows subscribers to quickly upload a point (address) dataset.\n• Downloading Data is as simple as a few clicks.\n• The Multi-Maps feature is the ability to overlay up to 5 layers of data.  \nThis session will also offer plenty of time for questions and answer\, and time permitting\, a chance to go through a user case study. \nSign up
URL:/events/learn-the-data-loader-multi-layer-maps-and-other-advanced-features-of-policymap-15
END:VEVENT
BEGIN:VEVENT
DTSTART;TZID=America/New_York:20200930T110000
DTEND;TZID=America/New_York:20200930T120000
DTSTAMP:20260423T111645
CREATED:20200708T174142Z
LAST-MODIFIED:20200708T174142Z
UID:28449-1601463600-1601467200@www.policymap.com
SUMMARY:Learn the Data Loader\, Multi-Layer Maps\, and other Advanced Features of PolicyMap
DESCRIPTION:Thank you for joining us to learn more advanced features on PolicyMap. We hope you have already attended our Overview Training session to learn the basics of PolicyMap or at least have used the tool a bit.  \nIn this session\, we will cover the more advanced features of PolicyMap including the Data Loader\, Data Download\, and Multi-Layer Maps.  \n• The Data Loader allows subscribers to quickly upload a point (address) dataset.\n• Downloading Data is as simple as a few clicks.\n• The Multi-Maps feature is the ability to overlay up to 5 layers of data.  \nThis session will also offer plenty of time for questions and answer\, and time permitting\, a chance to go through a user case study. \nSign up
URL:/events/learn-the-data-loader-multi-layer-maps-and-other-advanced-features-of-policymap-16
END:VEVENT
END:VCALENDAR