BEGIN:VCALENDAR
VERSION:2.0
PRODID:-//PolicyMap - ECPv6.15.20//NONSGML v1.0//EN
CALSCALE:GREGORIAN
METHOD:PUBLISH
X-WR-CALNAME:PolicyMap
X-ORIGINAL-URL:https://www.policymap.com
X-WR-CALDESC:Events for PolicyMap
REFRESH-INTERVAL;VALUE=DURATION:PT1H
X-Robots-Tag:noindex
X-PUBLISHED-TTL:PT1H
BEGIN:VTIMEZONE
TZID:America/New_York
BEGIN:DAYLIGHT
TZOFFSETFROM:-0500
TZOFFSETTO:-0400
TZNAME:EDT
DTSTART:20200308T070000
END:DAYLIGHT
BEGIN:STANDARD
TZOFFSETFROM:-0400
TZOFFSETTO:-0500
TZNAME:EST
DTSTART:20201101T060000
END:STANDARD
BEGIN:DAYLIGHT
TZOFFSETFROM:-0500
TZOFFSETTO:-0400
TZNAME:EDT
DTSTART:20210314T070000
END:DAYLIGHT
BEGIN:STANDARD
TZOFFSETFROM:-0400
TZOFFSETTO:-0500
TZNAME:EST
DTSTART:20211107T060000
END:STANDARD
BEGIN:DAYLIGHT
TZOFFSETFROM:-0500
TZOFFSETTO:-0400
TZNAME:EDT
DTSTART:20220313T070000
END:DAYLIGHT
BEGIN:STANDARD
TZOFFSETFROM:-0400
TZOFFSETTO:-0500
TZNAME:EST
DTSTART:20221106T060000
END:STANDARD
END:VTIMEZONE
BEGIN:VEVENT
DTSTART;TZID=America/New_York:20210706T140000
DTEND;TZID=America/New_York:20210706T150000
DTSTAMP:20260422T182918
CREATED:20210607T154134Z
LAST-MODIFIED:20210607T154134Z
UID:29829-1625580000-1625583600@www.policymap.com
SUMMARY:Learning the basics of PolicyMap
DESCRIPTION:This overview will cover: basic user interface (searching for locations\, loading datasets\, saving & printing)\, unique custom functionality (creating custom boundaries\, editing ranges\, customizing colors\, etc)\, and highlighting specific datasets. \nWe will have plenty of time for questions and answers regarding PolicyMap. \nSign up
URL:/events/learning-the-basics-of-policymap-157
END:VEVENT
BEGIN:VEVENT
DTSTART;TZID=America/New_York:20210707T110000
DTEND;TZID=America/New_York:20210707T120000
DTSTAMP:20260422T182918
CREATED:20210607T154642Z
LAST-MODIFIED:20210607T154642Z
UID:29843-1625655600-1625659200@www.policymap.com
SUMMARY:Learn the Data Loader\, Multi-Layer Maps\, and other Advanced Features of PolicyMap
DESCRIPTION:Thank you for joining us to learn more advanced features on PolicyMap. We hope you have already attended our Overview Training session to learn the basics of PolicyMap or at least have used the tool a bit.  \nIn this session\, we will cover the more advanced features of PolicyMap including the Data Loader\, Data Download\, and Multi-Layer Maps.  \n• The Data Loader allows subscribers to quickly upload a point (address) dataset.\n• Downloading Data is as simple as a few clicks.\n• The Multi-Maps feature is the ability to overlay up to 5 layers of data.  \nThis session will also offer plenty of time for questions and answer\, and time permitting\, a chance to go through a user case study. \nSign up
URL:/events/learn-the-data-loader-multi-layer-maps-and-other-advanced-features-of-policymap-51
END:VEVENT
BEGIN:VEVENT
DTSTART;TZID=America/New_York:20210721T150000
DTEND;TZID=America/New_York:20210721T160000
DTSTAMP:20260422T182918
CREATED:20210607T154725Z
LAST-MODIFIED:20210607T154725Z
UID:29845-1626879600-1626883200@www.policymap.com
SUMMARY:Learn the Data Loader\, Multi-Layer Maps\, and other Advanced Features of PolicyMap
DESCRIPTION:Thank you for joining us to learn more advanced features on PolicyMap. We hope you have already attended our Overview Training session to learn the basics of PolicyMap or at least have used the tool a bit.  \nIn this session\, we will cover the more advanced features of PolicyMap including the Data Loader\, Data Download\, and Multi-Layer Maps.  \n• The Data Loader allows subscribers to quickly upload a point (address) dataset.\n• Downloading Data is as simple as a few clicks.\n• The Multi-Maps feature is the ability to overlay up to 5 layers of data.  \nThis session will also offer plenty of time for questions and answer\, and time permitting\, a chance to go through a user case study. \nSign up
URL:/events/learn-the-data-loader-multi-layer-maps-and-other-advanced-features-of-policymap-52
END:VEVENT
BEGIN:VEVENT
DTSTART;TZID=America/New_York:20210722T110000
DTEND;TZID=America/New_York:20210722T120000
DTSTAMP:20260422T182918
CREATED:20210607T154224Z
LAST-MODIFIED:20210607T154224Z
UID:29831-1626951600-1626955200@www.policymap.com
SUMMARY:Learning the basics of PolicyMap
DESCRIPTION:This overview will cover: basic user interface (searching for locations\, loading datasets\, saving & printing)\, unique custom functionality (creating custom boundaries\, editing ranges\, customizing colors\, etc)\, and highlighting specific datasets. \nWe will have plenty of time for questions and answers regarding PolicyMap. \nSign up
URL:/events/learning-the-basics-of-policymap-158
END:VEVENT
BEGIN:VEVENT
DTSTART;TZID=America/New_York:20210727T140000
DTEND;TZID=America/New_York:20210727T150000
DTSTAMP:20260422T182918
CREATED:20210607T154256Z
LAST-MODIFIED:20210607T154256Z
UID:29833-1627394400-1627398000@www.policymap.com
SUMMARY:Learning the basics of PolicyMap
DESCRIPTION:This overview will cover: basic user interface (searching for locations\, loading datasets\, saving & printing)\, unique custom functionality (creating custom boundaries\, editing ranges\, customizing colors\, etc)\, and highlighting specific datasets. \nWe will have plenty of time for questions and answers regarding PolicyMap. \nSign up
URL:/events/learning-the-basics-of-policymap-159
END:VEVENT
BEGIN:VEVENT
DTSTART;TZID=America/New_York:20210728T110000
DTEND;TZID=America/New_York:20210728T120000
DTSTAMP:20260422T182918
CREATED:20210607T154804Z
LAST-MODIFIED:20210607T154804Z
UID:29847-1627470000-1627473600@www.policymap.com
SUMMARY:Learn the Data Loader\, Multi-Layer Maps\, and other Advanced Features of PolicyMap
DESCRIPTION:Thank you for joining us to learn more advanced features on PolicyMap. We hope you have already attended our Overview Training session to learn the basics of PolicyMap or at least have used the tool a bit.  \nIn this session\, we will cover the more advanced features of PolicyMap including the Data Loader\, Data Download\, and Multi-Layer Maps.  \n• The Data Loader allows subscribers to quickly upload a point (address) dataset.\n• Downloading Data is as simple as a few clicks.\n• The Multi-Maps feature is the ability to overlay up to 5 layers of data.  \nThis session will also offer plenty of time for questions and answer\, and time permitting\, a chance to go through a user case study. \nSign up
URL:/events/learn-the-data-loader-multi-layer-maps-and-other-advanced-features-of-policymap-53
END:VEVENT
END:VCALENDAR