BEGIN:VCALENDAR
VERSION:2.0
PRODID:-//PolicyMap - ECPv6.15.20//NONSGML v1.0//EN
CALSCALE:GREGORIAN
METHOD:PUBLISH
X-ORIGINAL-URL:https://www.policymap.com
X-WR-CALDESC:Events for PolicyMap
REFRESH-INTERVAL;VALUE=DURATION:PT1H
X-Robots-Tag:noindex
X-PUBLISHED-TTL:PT1H
BEGIN:VTIMEZONE
TZID:America/New_York
BEGIN:DAYLIGHT
TZOFFSETFROM:-0500
TZOFFSETTO:-0400
TZNAME:EDT
DTSTART:20200308T070000
END:DAYLIGHT
BEGIN:STANDARD
TZOFFSETFROM:-0400
TZOFFSETTO:-0500
TZNAME:EST
DTSTART:20201101T060000
END:STANDARD
BEGIN:DAYLIGHT
TZOFFSETFROM:-0500
TZOFFSETTO:-0400
TZNAME:EDT
DTSTART:20210314T070000
END:DAYLIGHT
BEGIN:STANDARD
TZOFFSETFROM:-0400
TZOFFSETTO:-0500
TZNAME:EST
DTSTART:20211107T060000
END:STANDARD
BEGIN:DAYLIGHT
TZOFFSETFROM:-0500
TZOFFSETTO:-0400
TZNAME:EDT
DTSTART:20220313T070000
END:DAYLIGHT
BEGIN:STANDARD
TZOFFSETFROM:-0400
TZOFFSETTO:-0500
TZNAME:EST
DTSTART:20221106T060000
END:STANDARD
END:VTIMEZONE
BEGIN:VEVENT
DTSTART;TZID=America/New_York:20210907T110000
DTEND;TZID=America/New_York:20210907T120000
DTSTAMP:20260422T151925
CREATED:20210804T151126Z
LAST-MODIFIED:20210804T151126Z
UID:30127-1631012400-1631016000@www.policymap.com
SUMMARY:Learning the basics of PolicyMap (20210907)
DESCRIPTION:This overview will cover: basic user interface (searching for locations\, loading datasets\, saving & printing)\, unique custom functionality (creating custom boundaries\, editing ranges\, customizing colors\, etc)\, and highlighting specific datasets. \nWe will have plenty of time for questions and answers regarding PolicyMap. \nSign up
URL:/events/learning-the-basics-of-policymap-20210907
END:VEVENT
BEGIN:VEVENT
DTSTART;TZID=America/New_York:20210908T130000
DTEND;TZID=America/New_York:20210908T140000
DTSTAMP:20260422T151925
CREATED:20210813T152040Z
LAST-MODIFIED:20210813T152040Z
UID:30168-1631106000-1631109600@www.policymap.com
SUMMARY:Learn the Data Loader\, Multi-Layer Maps\, and other Advanced Features (20210908)
DESCRIPTION:Thank you for joining us to learn more advanced features on PolicyMap. We hope you have already attended our Overview Training session to learn the basics of PolicyMap or at least have used the tool a bit.  \nIn this session\, we will cover the more advanced features of PolicyMap including the Data Loader\, Data Download\, and Multi-Layer Maps.  \n• The Data Loader allows subscribers to quickly upload a point (address) dataset.\n• Downloading Data is as simple as a few clicks.\n• The Multi-Maps feature is the ability to overlay up to 5 layers of data.  \nThis session will also offer plenty of time for questions and answer\, and time permitting\, a chance to go through a user case study. \nSign up
URL:/events/learn-the-data-loader-multi-layer-maps-and-other-advanced-features-20210908
END:VEVENT
BEGIN:VEVENT
DTSTART;TZID=America/New_York:20210915T110000
DTEND;TZID=America/New_York:20210915T120000
DTSTAMP:20260422T151925
CREATED:20210813T152240Z
LAST-MODIFIED:20210813T152240Z
UID:30171-1631703600-1631707200@www.policymap.com
SUMMARY:Learn the Data Loader\, Multi-Layer Maps\, and other Advanced Features (20210915)
DESCRIPTION:Thank you for joining us to learn more advanced features on PolicyMap. We hope you have already attended our Overview Training session to learn the basics of PolicyMap or at least have used the tool a bit.  \nIn this session\, we will cover the more advanced features of PolicyMap including the Data Loader\, Data Download\, and Multi-Layer Maps.  \n• The Data Loader allows subscribers to quickly upload a point (address) dataset.\n• Downloading Data is as simple as a few clicks.\n• The Multi-Maps feature is the ability to overlay up to 5 layers of data.  \nThis session will also offer plenty of time for questions and answer\, and time permitting\, a chance to go through a user case study. \nSign up
URL:/events/learn-the-data-loader-multi-layer-maps-and-other-advanced-features-20210915
END:VEVENT
BEGIN:VEVENT
DTSTART;TZID=America/New_York:20210916T110000
DTEND;TZID=America/New_York:20210916T120000
DTSTAMP:20260422T151925
CREATED:20210813T150428Z
LAST-MODIFIED:20210813T150428Z
UID:30157-1631790000-1631793600@www.policymap.com
SUMMARY:Learning the basics of PolicyMap (20210916)
DESCRIPTION:This overview will cover: basic user interface (searching for locations\, loading datasets\, saving & printing)\, unique custom functionality (creating custom boundaries\, editing ranges\, customizing colors\, etc)\, and highlighting specific datasets. \nWe will have plenty of time for questions and answers regarding PolicyMap. \nSign up
URL:/events/learning-the-basics-of-policymap-20210916
END:VEVENT
BEGIN:VEVENT
DTSTART;TZID=America/New_York:20210921T110000
DTEND;TZID=America/New_York:20210921T120000
DTSTAMP:20260422T151925
CREATED:20210813T150020Z
LAST-MODIFIED:20210813T150020Z
UID:30153-1632222000-1632225600@www.policymap.com
SUMMARY:Learning the basics of PolicyMap (20210921)
DESCRIPTION:This overview will cover: basic user interface (searching for locations\, loading datasets\, saving & printing)\, unique custom functionality (creating custom boundaries\, editing ranges\, customizing colors\, etc)\, and highlighting specific datasets. \nWe will have plenty of time for questions and answers regarding PolicyMap. \nSign up
URL:/events/learning-the-basics-of-policymap-20210921
END:VEVENT
BEGIN:VEVENT
DTSTART;TZID=America/New_York:20210922T150000
DTEND;TZID=America/New_York:20210922T160000
DTSTAMP:20260422T151925
CREATED:20210813T152357Z
LAST-MODIFIED:20210813T152357Z
UID:30173-1632322800-1632326400@www.policymap.com
SUMMARY:Learn the Data Loader\, Multi-Layer Maps\, and other Advanced Features (20210922)
DESCRIPTION:Thank you for joining us to learn more advanced features on PolicyMap. We hope you have already attended our Overview Training session to learn the basics of PolicyMap or at least have used the tool a bit.  \nIn this session\, we will cover the more advanced features of PolicyMap including the Data Loader\, Data Download\, and Multi-Layer Maps.  \n• The Data Loader allows subscribers to quickly upload a point (address) dataset.\n• Downloading Data is as simple as a few clicks.\n• The Multi-Maps feature is the ability to overlay up to 5 layers of data.  \nThis session will also offer plenty of time for questions and answer\, and time permitting\, a chance to go through a user case study. \nSign up
URL:/events/learn-the-data-loader-multi-layer-maps-and-other-advanced-features-20210922
END:VEVENT
BEGIN:VEVENT
DTSTART;TZID=America/New_York:20210929T110000
DTEND;TZID=America/New_York:20210929T120000
DTSTAMP:20260422T151925
CREATED:20210813T152513Z
LAST-MODIFIED:20210813T152513Z
UID:30175-1632913200-1632916800@www.policymap.com
SUMMARY:Learn the Data Loader\, Multi-Layer Maps\, and other Advanced Features (20210929)
DESCRIPTION:Thank you for joining us to learn more advanced features on PolicyMap. We hope you have already attended our Overview Training session to learn the basics of PolicyMap or at least have used the tool a bit.  \nIn this session\, we will cover the more advanced features of PolicyMap including the Data Loader\, Data Download\, and Multi-Layer Maps.  \n• The Data Loader allows subscribers to quickly upload a point (address) dataset.\n• Downloading Data is as simple as a few clicks.\n• The Multi-Maps feature is the ability to overlay up to 5 layers of data.  \nThis session will also offer plenty of time for questions and answer\, and time permitting\, a chance to go through a user case study. \nSign up
URL:/events/learn-the-data-loader-multi-layer-maps-and-other-advanced-features-20210929
END:VEVENT
BEGIN:VEVENT
DTSTART;TZID=America/New_York:20210930T140000
DTEND;TZID=America/New_York:20210930T150000
DTSTAMP:20260422T151925
CREATED:20210802T202707Z
LAST-MODIFIED:20210802T202707Z
UID:30121-1633010400-1633014000@www.policymap.com
SUMMARY:Learning the basics of PolicyMap (20210930)
DESCRIPTION:This overview will cover: basic user interface (searching for locations\, loading datasets\, saving & printing)\, unique custom functionality (creating custom boundaries\, editing ranges\, customizing colors\, etc)\, and highlighting specific datasets. \nWe will have plenty of time for questions and answers regarding PolicyMap. \nSign up
URL:/events/learning-the-basics-of-policymap-20210930
END:VEVENT
END:VCALENDAR