BEGIN:VCALENDAR
VERSION:2.0
PRODID:-//PolicyMap - ECPv6.15.20//NONSGML v1.0//EN
CALSCALE:GREGORIAN
METHOD:PUBLISH
X-ORIGINAL-URL:https://www.policymap.com
X-WR-CALDESC:Events for PolicyMap
REFRESH-INTERVAL;VALUE=DURATION:PT1H
X-Robots-Tag:noindex
X-PUBLISHED-TTL:PT1H
BEGIN:VTIMEZONE
TZID:America/New_York
BEGIN:DAYLIGHT
TZOFFSETFROM:-0500
TZOFFSETTO:-0400
TZNAME:EDT
DTSTART:20200308T070000
END:DAYLIGHT
BEGIN:STANDARD
TZOFFSETFROM:-0400
TZOFFSETTO:-0500
TZNAME:EST
DTSTART:20201101T060000
END:STANDARD
BEGIN:DAYLIGHT
TZOFFSETFROM:-0500
TZOFFSETTO:-0400
TZNAME:EDT
DTSTART:20210314T070000
END:DAYLIGHT
BEGIN:STANDARD
TZOFFSETFROM:-0400
TZOFFSETTO:-0500
TZNAME:EST
DTSTART:20211107T060000
END:STANDARD
BEGIN:DAYLIGHT
TZOFFSETFROM:-0500
TZOFFSETTO:-0400
TZNAME:EDT
DTSTART:20220313T070000
END:DAYLIGHT
BEGIN:STANDARD
TZOFFSETFROM:-0400
TZOFFSETTO:-0500
TZNAME:EST
DTSTART:20221106T060000
END:STANDARD
END:VTIMEZONE
BEGIN:VEVENT
DTSTART;TZID=America/New_York:20211201T110000
DTEND;TZID=America/New_York:20211201T120000
DTSTAMP:20260422T060257
CREATED:20211005T153437Z
LAST-MODIFIED:20211005T153437Z
UID:30428-1638356400-1638360000@www.policymap.com
SUMMARY:Learn the Data Loader\, Multi-Layer Maps\, and other Advanced Features (20211201)
DESCRIPTION:Thank you for joining us to learn more advanced features on PolicyMap. We hope you have already attended our Overview Training session to learn the basics of PolicyMap or at least have used the tool a bit.  \nIn this session\, we will cover the more advanced features of PolicyMap including the Data Loader\, Data Download\, and Multi-Layer Maps.  \n• The Data Loader allows subscribers to quickly upload a point (address) dataset.\n• Downloading Data is as simple as a few clicks.\n• The Multi-Maps feature is the ability to overlay up to 5 layers of data.  \nThis session will also offer plenty of time for questions and answer\, and time permitting\, a chance to go through a user case study. \nSign up
URL:/events/learn-the-data-loader-multi-layer-maps-and-other-advanced-features-20211201
END:VEVENT
BEGIN:VEVENT
DTSTART;TZID=America/New_York:20211202T140000
DTEND;TZID=America/New_York:20211202T150000
DTSTAMP:20260422T060257
CREATED:20211005T152659Z
LAST-MODIFIED:20211005T152659Z
UID:30415-1638453600-1638457200@www.policymap.com
SUMMARY:Learning the basics of PolicyMap (20211202)
DESCRIPTION:This overview will cover: basic user interface (searching for locations\, loading datasets\, saving & printing)\, unique custom functionality (creating custom boundaries\, editing ranges\, customizing colors\, etc)\, and highlighting specific datasets. \nWe will have plenty of time for questions and answers regarding PolicyMap. \nSign up
URL:/events/learning-the-basics-of-policymap-20211202
END:VEVENT
BEGIN:VEVENT
DTSTART;TZID=America/New_York:20211207T110000
DTEND;TZID=America/New_York:20211207T120000
DTSTAMP:20260422T060257
CREATED:20211005T152800Z
LAST-MODIFIED:20211005T152800Z
UID:30417-1638874800-1638878400@www.policymap.com
SUMMARY:Learning the basics of PolicyMap (20211207)
DESCRIPTION:This overview will cover: basic user interface (searching for locations\, loading datasets\, saving & printing)\, unique custom functionality (creating custom boundaries\, editing ranges\, customizing colors\, etc)\, and highlighting specific datasets. \nWe will have plenty of time for questions and answers regarding PolicyMap. \nSign up
URL:/events/learning-the-basics-of-policymap-20211207
END:VEVENT
BEGIN:VEVENT
DTSTART;TZID=America/New_York:20211208T150000
DTEND;TZID=America/New_York:20211208T160000
DTSTAMP:20260422T060257
CREATED:20211005T153544Z
LAST-MODIFIED:20211005T153544Z
UID:30430-1638975600-1638979200@www.policymap.com
SUMMARY:Learn the Data Loader\, Multi-Layer Maps\, and other Advanced Features (20211208)
DESCRIPTION:Thank you for joining us to learn more advanced features on PolicyMap. We hope you have already attended our Overview Training session to learn the basics of PolicyMap or at least have used the tool a bit.  \nIn this session\, we will cover the more advanced features of PolicyMap including the Data Loader\, Data Download\, and Multi-Layer Maps.  \n• The Data Loader allows subscribers to quickly upload a point (address) dataset.\n• Downloading Data is as simple as a few clicks.\n• The Multi-Maps feature is the ability to overlay up to 5 layers of data.  \nThis session will also offer plenty of time for questions and answer\, and time permitting\, a chance to go through a user case study. \nSign up
URL:/events/learn-the-data-loader-multi-layer-maps-and-other-advanced-features-20211208
END:VEVENT
BEGIN:VEVENT
DTSTART;TZID=America/New_York:20211214T130000
DTEND;TZID=America/New_York:20211214T140000
DTSTAMP:20260422T060257
CREATED:20211005T152907Z
LAST-MODIFIED:20211005T152907Z
UID:30419-1639486800-1639490400@www.policymap.com
SUMMARY:Learning the basics of PolicyMap (20211214)
DESCRIPTION:This overview will cover: basic user interface (searching for locations\, loading datasets\, saving & printing)\, unique custom functionality (creating custom boundaries\, editing ranges\, customizing colors\, etc)\, and highlighting specific datasets. \nWe will have plenty of time for questions and answers regarding PolicyMap. \nSign up
URL:/events/learning-the-basics-of-policymap-20211214
END:VEVENT
BEGIN:VEVENT
DTSTART;TZID=America/New_York:20211215T110000
DTEND;TZID=America/New_York:20211215T120000
DTSTAMP:20260422T060257
CREATED:20211005T153632Z
LAST-MODIFIED:20211005T153632Z
UID:30432-1639566000-1639569600@www.policymap.com
SUMMARY:Learn the Data Loader\, Multi-Layer Maps\, and other Advanced Features (20211215)
DESCRIPTION:Thank you for joining us to learn more advanced features on PolicyMap. We hope you have already attended our Overview Training session to learn the basics of PolicyMap or at least have used the tool a bit.  \nIn this session\, we will cover the more advanced features of PolicyMap including the Data Loader\, Data Download\, and Multi-Layer Maps.  \n• The Data Loader allows subscribers to quickly upload a point (address) dataset.\n• Downloading Data is as simple as a few clicks.\n• The Multi-Maps feature is the ability to overlay up to 5 layers of data.  \nThis session will also offer plenty of time for questions and answer\, and time permitting\, a chance to go through a user case study. \nSign up
URL:/events/learn-the-data-loader-multi-layer-maps-and-other-advanced-features-20211215
END:VEVENT
BEGIN:VEVENT
DTSTART;TZID=America/New_York:20211223T140000
DTEND;TZID=America/New_York:20211223T150000
DTSTAMP:20260422T060257
CREATED:20211115T184612Z
LAST-MODIFIED:20211115T184612Z
UID:30512-1640268000-1640271600@www.policymap.com
SUMMARY:Learning the basics of PolicyMap (20211223)
DESCRIPTION:This overview will cover: basic user interface (searching for locations\, loading datasets\, saving & printing)\, unique custom functionality (creating custom boundaries\, editing ranges\, customizing colors\, etc)\, and highlighting specific datasets. \nWe will have plenty of time for questions and answers regarding PolicyMap. \nSign up
URL:/events/learning-the-basics-of-policymap-20211223
END:VEVENT
BEGIN:VEVENT
DTSTART;TZID=America/New_York:20211228T110000
DTEND;TZID=America/New_York:20211228T120000
DTSTAMP:20260422T060257
CREATED:20211115T184753Z
LAST-MODIFIED:20211115T184753Z
UID:30515-1640689200-1640692800@www.policymap.com
SUMMARY:Learning the basics of PolicyMap (20211228)
DESCRIPTION:This overview will cover: basic user interface (searching for locations\, loading datasets\, saving & printing)\, unique custom functionality (creating custom boundaries\, editing ranges\, customizing colors\, etc)\, and highlighting specific datasets. \nWe will have plenty of time for questions and answers regarding PolicyMap. \nSign up
URL:/events/learning-the-basics-of-policymap-20211228
END:VEVENT
END:VCALENDAR