BEGIN:VCALENDAR
VERSION:2.0
PRODID:-//PolicyMap - ECPv6.15.20//NONSGML v1.0//EN
CALSCALE:GREGORIAN
METHOD:PUBLISH
X-ORIGINAL-URL:https://www.policymap.com
X-WR-CALDESC:Events for PolicyMap
REFRESH-INTERVAL;VALUE=DURATION:PT1H
X-Robots-Tag:noindex
X-PUBLISHED-TTL:PT1H
BEGIN:VTIMEZONE
TZID:America/New_York
BEGIN:DAYLIGHT
TZOFFSETFROM:-0500
TZOFFSETTO:-0400
TZNAME:EDT
DTSTART:20210314T070000
END:DAYLIGHT
BEGIN:STANDARD
TZOFFSETFROM:-0400
TZOFFSETTO:-0500
TZNAME:EST
DTSTART:20211107T060000
END:STANDARD
BEGIN:DAYLIGHT
TZOFFSETFROM:-0500
TZOFFSETTO:-0400
TZNAME:EDT
DTSTART:20220313T070000
END:DAYLIGHT
BEGIN:STANDARD
TZOFFSETFROM:-0400
TZOFFSETTO:-0500
TZNAME:EST
DTSTART:20221106T060000
END:STANDARD
BEGIN:DAYLIGHT
TZOFFSETFROM:-0500
TZOFFSETTO:-0400
TZNAME:EDT
DTSTART:20230312T070000
END:DAYLIGHT
BEGIN:STANDARD
TZOFFSETFROM:-0400
TZOFFSETTO:-0500
TZNAME:EST
DTSTART:20231105T060000
END:STANDARD
END:VTIMEZONE
BEGIN:VEVENT
DTSTART;TZID=America/New_York:20220104T110000
DTEND;TZID=America/New_York:20220104T120000
DTSTAMP:20260422T044046
CREATED:20211115T184949Z
LAST-MODIFIED:20211115T184949Z
UID:30517-1641294000-1641297600@www.policymap.com
SUMMARY:Learning the basics of PolicyMap (20220104)
DESCRIPTION:This overview will cover: basic user interface (searching for locations\, loading datasets\, saving & printing)\, unique custom functionality (creating custom boundaries\, editing ranges\, customizing colors\, etc)\, and highlighting specific datasets. \nWe will have plenty of time for questions and answers regarding PolicyMap. \nSign up
URL:/events/learning-the-basics-of-policymap-20220104
END:VEVENT
BEGIN:VEVENT
DTSTART;TZID=America/New_York:20220105T130000
DTEND;TZID=America/New_York:20220105T140000
DTSTAMP:20260422T044046
CREATED:20211115T192538Z
LAST-MODIFIED:20211115T192538Z
UID:30525-1641387600-1641391200@www.policymap.com
SUMMARY:Learn the Data Loader\, Multi-Layer Maps\, and other Advanced Features (20220105)
DESCRIPTION:Thank you for joining us to learn more advanced features on PolicyMap. We hope you have already attended our Overview Training session to learn the basics of PolicyMap or at least have used the tool a bit.  \nIn this session\, we will cover the more advanced features of PolicyMap including the Data Loader\, Data Download\, and Multi-Layer Maps.  \n• The Data Loader allows subscribers to quickly upload a point (address) dataset.\n• Downloading Data is as simple as a few clicks.\n• The Multi-Maps feature is the ability to overlay up to 5 layers of data.  \nThis session will also offer plenty of time for questions and answer\, and time permitting\, a chance to go through a user case study. \nSign up
URL:/events/learn-the-data-loader-multi-layer-maps-and-other-advanced-features-20220105
END:VEVENT
BEGIN:VEVENT
DTSTART;TZID=America/New_York:20220112T110000
DTEND;TZID=America/New_York:20220112T120000
DTSTAMP:20260422T044046
CREATED:20211115T192639Z
LAST-MODIFIED:20211115T192639Z
UID:30527-1641985200-1641988800@www.policymap.com
SUMMARY:Learn the Data Loader\, Multi-Layer Maps\, and other Advanced Features (20220112)
DESCRIPTION:Thank you for joining us to learn more advanced features on PolicyMap. We hope you have already attended our Overview Training session to learn the basics of PolicyMap or at least have used the tool a bit.  \nIn this session\, we will cover the more advanced features of PolicyMap including the Data Loader\, Data Download\, and Multi-Layer Maps.  \n• The Data Loader allows subscribers to quickly upload a point (address) dataset.\n• Downloading Data is as simple as a few clicks.\n• The Multi-Maps feature is the ability to overlay up to 5 layers of data.  \nThis session will also offer plenty of time for questions and answer\, and time permitting\, a chance to go through a user case study. \nSign up
URL:/events/learn-the-data-loader-multi-layer-maps-and-other-advanced-features-20220112
END:VEVENT
BEGIN:VEVENT
DTSTART;TZID=America/New_York:20220113T130000
DTEND;TZID=America/New_York:20220113T140000
DTSTAMP:20260422T044046
CREATED:20211115T190159Z
LAST-MODIFIED:20211115T190159Z
UID:30519-1642078800-1642082400@www.policymap.com
SUMMARY:Learning the basics of PolicyMap (20220113)
DESCRIPTION:This overview will cover: basic user interface (searching for locations\, loading datasets\, saving & printing)\, unique custom functionality (creating custom boundaries\, editing ranges\, customizing colors\, etc)\, and highlighting specific datasets. \nWe will have plenty of time for questions and answers regarding PolicyMap. \nSign up
URL:/events/learning-the-basics-of-policymap-20220113
END:VEVENT
BEGIN:VEVENT
DTSTART;TZID=America/New_York:20220118T110000
DTEND;TZID=America/New_York:20220118T120000
DTSTAMP:20260422T044046
CREATED:20211115T190258Z
LAST-MODIFIED:20211115T190258Z
UID:30521-1642503600-1642507200@www.policymap.com
SUMMARY:Learning the basics of PolicyMap (20220118)
DESCRIPTION:This overview will cover: basic user interface (searching for locations\, loading datasets\, saving & printing)\, unique custom functionality (creating custom boundaries\, editing ranges\, customizing colors\, etc)\, and highlighting specific datasets. \nWe will have plenty of time for questions and answers regarding PolicyMap. \nSign up
URL:/events/learning-the-basics-of-policymap-20220118
END:VEVENT
BEGIN:VEVENT
DTSTART;TZID=America/New_York:20220119T150000
DTEND;TZID=America/New_York:20220119T160000
DTSTAMP:20260422T044046
CREATED:20211115T192732Z
LAST-MODIFIED:20211115T192732Z
UID:30529-1642604400-1642608000@www.policymap.com
SUMMARY:Learn the Data Loader\, Multi-Layer Maps\, and other Advanced Features (20220119)
DESCRIPTION:Thank you for joining us to learn more advanced features on PolicyMap. We hope you have already attended our Overview Training session to learn the basics of PolicyMap or at least have used the tool a bit.  \nIn this session\, we will cover the more advanced features of PolicyMap including the Data Loader\, Data Download\, and Multi-Layer Maps.  \n• The Data Loader allows subscribers to quickly upload a point (address) dataset.\n• Downloading Data is as simple as a few clicks.\n• The Multi-Maps feature is the ability to overlay up to 5 layers of data.  \nThis session will also offer plenty of time for questions and answer\, and time permitting\, a chance to go through a user case study. \nSign up
URL:/events/learn-the-data-loader-multi-layer-maps-and-other-advanced-features-20220119
END:VEVENT
BEGIN:VEVENT
DTSTART;TZID=America/New_York:20220126T110000
DTEND;TZID=America/New_York:20220126T120000
DTSTAMP:20260422T044046
CREATED:20211115T192828Z
LAST-MODIFIED:20211115T192828Z
UID:30532-1643194800-1643198400@www.policymap.com
SUMMARY:Learn the Data Loader\, Multi-Layer Maps\, and other Advanced Features (20220126)
DESCRIPTION:Thank you for joining us to learn more advanced features on PolicyMap. We hope you have already attended our Overview Training session to learn the basics of PolicyMap or at least have used the tool a bit.  \nIn this session\, we will cover the more advanced features of PolicyMap including the Data Loader\, Data Download\, and Multi-Layer Maps.  \n• The Data Loader allows subscribers to quickly upload a point (address) dataset.\n• Downloading Data is as simple as a few clicks.\n• The Multi-Maps feature is the ability to overlay up to 5 layers of data.  \nThis session will also offer plenty of time for questions and answer\, and time permitting\, a chance to go through a user case study. \nSign up
URL:/events/learn-the-data-loader-multi-layer-maps-and-other-advanced-features-20220126
END:VEVENT
BEGIN:VEVENT
DTSTART;TZID=America/New_York:20220127T140000
DTEND;TZID=America/New_York:20220127T150000
DTSTAMP:20260422T044046
CREATED:20211115T190402Z
LAST-MODIFIED:20211115T190402Z
UID:30523-1643292000-1643295600@www.policymap.com
SUMMARY:Learning the basics of PolicyMap (20220127)
DESCRIPTION:This overview will cover: basic user interface (searching for locations\, loading datasets\, saving & printing)\, unique custom functionality (creating custom boundaries\, editing ranges\, customizing colors\, etc)\, and highlighting specific datasets. \nWe will have plenty of time for questions and answers regarding PolicyMap. \nSign up
URL:/events/learning-the-basics-of-policymap-20220127
END:VEVENT
END:VCALENDAR