BEGIN:VCALENDAR
VERSION:2.0
PRODID:-//PolicyMap - ECPv6.15.20//NONSGML v1.0//EN
CALSCALE:GREGORIAN
METHOD:PUBLISH
X-ORIGINAL-URL:https://www.policymap.com
X-WR-CALDESC:Events for PolicyMap
REFRESH-INTERVAL;VALUE=DURATION:PT1H
X-Robots-Tag:noindex
X-PUBLISHED-TTL:PT1H
BEGIN:VTIMEZONE
TZID:America/New_York
BEGIN:DAYLIGHT
TZOFFSETFROM:-0500
TZOFFSETTO:-0400
TZNAME:EDT
DTSTART:20210314T070000
END:DAYLIGHT
BEGIN:STANDARD
TZOFFSETFROM:-0400
TZOFFSETTO:-0500
TZNAME:EST
DTSTART:20211107T060000
END:STANDARD
BEGIN:DAYLIGHT
TZOFFSETFROM:-0500
TZOFFSETTO:-0400
TZNAME:EDT
DTSTART:20220313T070000
END:DAYLIGHT
BEGIN:STANDARD
TZOFFSETFROM:-0400
TZOFFSETTO:-0500
TZNAME:EST
DTSTART:20221106T060000
END:STANDARD
BEGIN:DAYLIGHT
TZOFFSETFROM:-0500
TZOFFSETTO:-0400
TZNAME:EDT
DTSTART:20230312T070000
END:DAYLIGHT
BEGIN:STANDARD
TZOFFSETFROM:-0400
TZOFFSETTO:-0500
TZNAME:EST
DTSTART:20231105T060000
END:STANDARD
END:VTIMEZONE
BEGIN:VEVENT
DTSTART;TZID=America/New_York:20220803T110000
DTEND;TZID=America/New_York:20220803T120000
DTSTAMP:20260421T173035
CREATED:20220609T192938Z
LAST-MODIFIED:20220609T192938Z
UID:31897-1659524400-1659528000@www.policymap.com
SUMMARY:Learn the Data Loader\, Multi-Layer Maps\, and other Advanced Features
DESCRIPTION:Thank you for joining us to learn more advanced features on PolicyMap. We hope you have already attended our Overview Training session to learn the basics of PolicyMap or at least have used the tool a bit. \nIn this session\, we will cover the more advanced features of PolicyMap including the Data Loader\, Data Download\, and Multi-Layer Maps. \n• The Data Loader allows subscribers to quickly upload a point (address) dataset.\n• Downloading Data is as simple as a few clicks.\n• The Multi-Maps feature is the ability to overlay up to 5 layers of data. \nThis session will also offer plenty of time for questions and answer\, and time permitting\, a chance to go through a user case study. \nSign up
URL:/events/learn-the-data-loader-multi-layer-maps-and-other-advanced-features-20220803
END:VEVENT
BEGIN:VEVENT
DTSTART;TZID=America/New_York:20220804T140000
DTEND;TZID=America/New_York:20220804T150000
DTSTAMP:20260421T173035
CREATED:20220609T171941Z
LAST-MODIFIED:20220609T172100Z
UID:31888-1659621600-1659625200@www.policymap.com
SUMMARY:Learning the basics of PolicyMap
DESCRIPTION:This overview will cover: basic user interface (searching for locations\, loading datasets\, saving & printing)\, unique custom functionality (creating custom boundaries\, editing ranges\, customizing colors\, etc)\, and highlighting specific datasets. \nWe will have plenty of time for questions and answers regarding PolicyMap. \nSign up
URL:/events/learning-the-basics-of-policymap-20220804
END:VEVENT
BEGIN:VEVENT
DTSTART;TZID=America/New_York:20220810T130000
DTEND;TZID=America/New_York:20220810T140000
DTSTAMP:20260421T173035
CREATED:20220609T193144Z
LAST-MODIFIED:20220609T193144Z
UID:31898-1660136400-1660140000@www.policymap.com
SUMMARY:Learn the Data Loader\, Multi-Layer Maps\, and other Advanced Features
DESCRIPTION:Thank you for joining us to learn more advanced features on PolicyMap. We hope you have already attended our Overview Training session to learn the basics of PolicyMap or at least have used the tool a bit. \nIn this session\, we will cover the more advanced features of PolicyMap including the Data Loader\, Data Download\, and Multi-Layer Maps. \n• The Data Loader allows subscribers to quickly upload a point (address) dataset.\n• Downloading Data is as simple as a few clicks.\n• The Multi-Maps feature is the ability to overlay up to 5 layers of data. \nThis session will also offer plenty of time for questions and answer\, and time permitting\, a chance to go through a user case study. \nSign up
URL:/events/learn-the-data-loader-multi-layer-maps-and-other-advanced-features-20220810
END:VEVENT
BEGIN:VEVENT
DTSTART;TZID=America/New_York:20220811T110000
DTEND;TZID=America/New_York:20220811T120000
DTSTAMP:20260421T173035
CREATED:20220609T172226Z
LAST-MODIFIED:20220801T203353Z
UID:31890-1660215600-1660219200@www.policymap.com
SUMMARY:Learning the basics of PolicyMap
DESCRIPTION:This overview will cover: basic user interface (searching for locations\, loading datasets\, saving & printing)\, unique custom functionality (creating custom boundaries\, editing ranges\, customizing colors\, etc)\, and highlighting specific datasets. \nWe will have plenty of time for questions and answers regarding PolicyMap. \nSign up
URL:/events/learning-the-basics-of-policymap-20220809
END:VEVENT
BEGIN:VEVENT
DTSTART;TZID=America/New_York:20220818T110000
DTEND;TZID=America/New_York:20220818T120000
DTSTAMP:20260421T173035
CREATED:20220609T193338Z
LAST-MODIFIED:20220811T144830Z
UID:31899-1660820400-1660824000@www.policymap.com
SUMMARY:Learn the Data Loader\, Multi-Layer Maps\, and other Advanced Features
DESCRIPTION:Thank you for joining us to learn more advanced features on PolicyMap. We hope you have already attended our Overview Training session to learn the basics of PolicyMap or at least have used the tool a bit. \nIn this session\, we will cover the more advanced features of PolicyMap including the Data Loader\, Data Download\, and Multi-Layer Maps. \n• The Data Loader allows uses to quickly upload a point (address) dataset.\n• Downloading Data is as simple as a few clicks.\n• The Multi-Maps feature is the ability to overlay up to 5 layers of data. \nThis session will also offer plenty of time for questions and answer\, and time permitting\, a chance to go through a user case study. \nSign up
URL:/events/learn-the-data-loader-multi-layer-20220817-maps-and-other-advanced-features-20220818
END:VEVENT
BEGIN:VEVENT
DTSTART;TZID=America/New_York:20220818T140000
DTEND;TZID=America/New_York:20220818T150000
DTSTAMP:20260421T173035
CREATED:20220609T172328Z
LAST-MODIFIED:20220609T172328Z
UID:31891-1660831200-1660834800@www.policymap.com
SUMMARY:Learning the basics of PolicyMap
DESCRIPTION:This overview will cover: basic user interface (searching for locations\, loading datasets\, saving & printing)\, unique custom functionality (creating custom boundaries\, editing ranges\, customizing colors\, etc)\, and highlighting specific datasets. \nWe will have plenty of time for questions and answers regarding PolicyMap. \nSign up
URL:/events/learning-the-basics-of-policymap-20220818
END:VEVENT
BEGIN:VEVENT
DTSTART;TZID=America/New_York:20220823T110000
DTEND;TZID=America/New_York:20220823T120000
DTSTAMP:20260421T173035
CREATED:20220609T172536Z
LAST-MODIFIED:20220609T172608Z
UID:31892-1661252400-1661256000@www.policymap.com
SUMMARY:Learning the basics of PolicyMap
DESCRIPTION:This overview will cover: basic user interface (searching for locations\, loading datasets\, saving & printing)\, unique custom functionality (creating custom boundaries\, editing ranges\, customizing colors\, etc)\, and highlighting specific datasets. \nWe will have plenty of time for questions and answers regarding PolicyMap. \nSign up
URL:/events/learning-the-basics-of-policymap-20220823
END:VEVENT
BEGIN:VEVENT
DTSTART;TZID=America/New_York:20220823T140000
DTEND;TZID=America/New_York:20220823T150000
DTSTAMP:20260421T173035
CREATED:20220728T143235Z
LAST-MODIFIED:20220805T195239Z
UID:32064-1661263200-1661266800@www.policymap.com
SUMMARY:Back to School Webinar
DESCRIPTION:Register \nPolicyMap is an essential classroom resource. Learn how our mapping and analytics platform can support your curriculum in the upcoming academic year. We’ll cover new and upcoming data and features\, helpful support resources\, and answer your questions! \nHosted by:\nElizabeth Nash\, Chief Data Officer\nPhil Vu\, Chief Customer Success Officer\nBetsy Minnich\, Business Development
URL:/events/back-to-school-webinar
ATTACH;FMTTYPE=image/jpeg:/wp-content/uploads/2022/07/Back-to-School-906-×-300-px-e1659729134285.jpg
ORGANIZER;CN="PolicyMap":MAILTO:info@policymap.com
END:VEVENT
BEGIN:VEVENT
DTSTART;TZID=America/New_York:20220825T140000
DTEND;TZID=America/New_York:20220825T150000
DTSTAMP:20260421T173035
CREATED:20220609T193457Z
LAST-MODIFIED:20220609T193457Z
UID:31900-1661436000-1661439600@www.policymap.com
SUMMARY:Learn the Data Loader\, Multi-Layer Maps\, and other Advanced Features
DESCRIPTION:Thank you for joining us to learn more advanced features on PolicyMap. We hope you have already attended our Overview Training session to learn the basics of PolicyMap or at least have used the tool a bit. \nIn this session\, we will cover the more advanced features of PolicyMap including the Data Loader\, Data Download\, and Multi-Layer Maps. \n• The Data Loader allows subscribers to quickly upload a point (address) dataset.\n• Downloading Data is as simple as a few clicks.\n• The Multi-Maps feature is the ability to overlay up to 5 layers of data. \nThis session will also offer plenty of time for questions and answer\, and time permitting\, a chance to go through a user case study. \nSign up
URL:/events/learn-the-data-loader-multi-layer-maps-and-other-advanced-features-20220825
END:VEVENT
BEGIN:VEVENT
DTSTART;TZID=America/New_York:20220830T140000
DTEND;TZID=America/New_York:20220830T150000
DTSTAMP:20260421T173035
CREATED:20220811T140627Z
LAST-MODIFIED:20220811T141046Z
UID:32107-1661868000-1661871600@www.policymap.com
SUMMARY:Learning the basics of PolicyMap
DESCRIPTION:This overview will cover: basic user interface (searching for locations\, loading datasets\, saving & printing)\, unique custom functionality (creating custom boundaries\, editing ranges\, customizing colors\, etc)\, and highlighting specific datasets. \nWe will have plenty of time for questions and answers regarding PolicyMap. \nSign up
URL:/events/learning-the-basics-of-policymap-20220830
END:VEVENT
BEGIN:VEVENT
DTSTART;TZID=America/New_York:20220831T110000
DTEND;TZID=America/New_York:20220831T120000
DTSTAMP:20260421T173035
CREATED:20220609T193620Z
LAST-MODIFIED:20220811T144308Z
UID:31901-1661943600-1661947200@www.policymap.com
SUMMARY:Learn the Data Loader\, Multi-Layer Maps\, and other Advanced Features
DESCRIPTION:Thank you for joining us to learn more advanced features on PolicyMap. We hope you have already attended our Overview Training session to learn the basics of PolicyMap or at least have used the tool a bit. \nIn this session\, we will cover the more advanced features of PolicyMap including the Data Loader\, Data Download\, and Multi-Layer Maps. \n• The Data Loader allows subscribers to quickly upload a point (address) dataset.\n• Downloading Data is as simple as a few clicks.\n• The Multi-Maps feature is the ability to overlay up to 5 layers of data. \nThis session will also offer plenty of time for questions and answer\, and time permitting\, a chance to go through a user case study. \nSign up
URL:/events/learn-the-data-loader-multi-layer-maps-and-other-advanced-features-20220831
END:VEVENT
END:VCALENDAR