BEGIN:VCALENDAR
VERSION:2.0
PRODID:-//PolicyMap - ECPv6.15.20//NONSGML v1.0//EN
CALSCALE:GREGORIAN
METHOD:PUBLISH
X-ORIGINAL-URL:https://www.policymap.com
X-WR-CALDESC:Events for PolicyMap
REFRESH-INTERVAL;VALUE=DURATION:PT1H
X-Robots-Tag:noindex
X-PUBLISHED-TTL:PT1H
BEGIN:VTIMEZONE
TZID:America/New_York
BEGIN:DAYLIGHT
TZOFFSETFROM:-0500
TZOFFSETTO:-0400
TZNAME:EDT
DTSTART:20210314T070000
END:DAYLIGHT
BEGIN:STANDARD
TZOFFSETFROM:-0400
TZOFFSETTO:-0500
TZNAME:EST
DTSTART:20211107T060000
END:STANDARD
BEGIN:DAYLIGHT
TZOFFSETFROM:-0500
TZOFFSETTO:-0400
TZNAME:EDT
DTSTART:20220313T070000
END:DAYLIGHT
BEGIN:STANDARD
TZOFFSETFROM:-0400
TZOFFSETTO:-0500
TZNAME:EST
DTSTART:20221106T060000
END:STANDARD
BEGIN:DAYLIGHT
TZOFFSETFROM:-0500
TZOFFSETTO:-0400
TZNAME:EDT
DTSTART:20230312T070000
END:DAYLIGHT
BEGIN:STANDARD
TZOFFSETFROM:-0400
TZOFFSETTO:-0500
TZNAME:EST
DTSTART:20231105T060000
END:STANDARD
END:VTIMEZONE
BEGIN:VEVENT
DTSTART;TZID=America/New_York:20221101T140000
DTEND;TZID=America/New_York:20221101T150000
DTSTAMP:20260421T131916
CREATED:20221101T192611Z
LAST-MODIFIED:20221101T194114Z
UID:32319-1667311200-1667314800@www.policymap.com
SUMMARY:Learning the basics of PolicyMap
DESCRIPTION:This overview will cover: basic user interface (searching for locations\, loading datasets\, saving & printing)\, unique custom functionality (creating custom boundaries\, editing ranges\, customizing colors\, etc)\, and highlighting specific datasets. \nWe will have plenty of time for questions and answers regarding PolicyMap. \nSign up
URL:/events/learning-the-basics-of-policymap-20221101
CATEGORIES:Trainings
ORGANIZER;CN="PolicyMap":MAILTO:info@policymap.com
END:VEVENT
BEGIN:VEVENT
DTSTART;TZID=America/New_York:20221102T110000
DTEND;TZID=America/New_York:20221102T120000
DTSTAMP:20260421T131916
CREATED:20221101T195025Z
LAST-MODIFIED:20221101T195025Z
UID:32329-1667386800-1667390400@www.policymap.com
SUMMARY:Learn the Data Loader\, Multi-Layer Maps\, and other Advanced Features
DESCRIPTION:Thank you for joining us to learn more advanced features on PolicyMap. We hope you have already attended our Overview Training session to learn the basics of PolicyMap or at least have used the tool a bit. \nIn this session\, we will cover the more advanced features of PolicyMap including the Data Loader\, Data Download\, and Multi-Layer Maps. \n• The Data Loader allows users to quickly upload a point (address) dataset.\n• Downloading Data is as simple as a few clicks.\n• The Multi-Maps feature is the ability to overlay up to 5 layers of data. \nThis session will also offer plenty of time for questions and answer\, and time permitting\, a chance to go through a user case study. \nSign up
URL:/events/learn-the-data-loader-and-other-advanced-features-20221102
CATEGORIES:Trainings
ORGANIZER;CN="PolicyMap":MAILTO:info@policymap.com
END:VEVENT
BEGIN:VEVENT
DTSTART;TZID=America/New_York:20221109T150000
DTEND;TZID=America/New_York:20221109T160000
DTSTAMP:20260421T131916
CREATED:20221101T195144Z
LAST-MODIFIED:20221101T195144Z
UID:32330-1668006000-1668009600@www.policymap.com
SUMMARY:Learn the Data Loader\, Multi-Layer Maps\, and other Advanced Features
DESCRIPTION:Thank you for joining us to learn more advanced features on PolicyMap. We hope you have already attended our Overview Training session to learn the basics of PolicyMap or at least have used the tool a bit. \nIn this session\, we will cover the more advanced features of PolicyMap including the Data Loader\, Data Download\, and Multi-Layer Maps. \n• The Data Loader allows users to quickly upload a point (address) dataset.\n• Downloading Data is as simple as a few clicks.\n• The Multi-Maps feature is the ability to overlay up to 5 layers of data. \nThis session will also offer plenty of time for questions and answer\, and time permitting\, a chance to go through a user case study. \nSign up
URL:/events/learn-the-data-loader-other-advanced-features-20221109
CATEGORIES:Trainings
ORGANIZER;CN="PolicyMap":MAILTO:info@policymap.com
END:VEVENT
BEGIN:VEVENT
DTSTART;TZID=America/New_York:20221110T110000
DTEND;TZID=America/New_York:20221110T120000
DTSTAMP:20260421T131916
CREATED:20221101T193352Z
LAST-MODIFIED:20221101T194042Z
UID:32320-1668078000-1668081600@www.policymap.com
SUMMARY:Learning the basics of PolicyMap
DESCRIPTION:This overview will cover: basic user interface (searching for locations\, loading datasets\, saving & printing)\, unique custom functionality (creating custom boundaries\, editing ranges\, customizing colors\, etc)\, and highlighting specific datasets. \nWe will have plenty of time for questions and answers regarding PolicyMap. \nSign up
URL:/events/learning-the-basics-of-policymap-20221110
CATEGORIES:Trainings
ORGANIZER;CN="PolicyMap":MAILTO:info@policymap.com
END:VEVENT
BEGIN:VEVENT
DTSTART;TZID=America/New_York:20221115T140000
DTEND;TZID=America/New_York:20221115T150000
DTSTAMP:20260421T131916
CREATED:20221101T193533Z
LAST-MODIFIED:20221101T194024Z
UID:32321-1668520800-1668524400@www.policymap.com
SUMMARY:Learning the basics of PolicyMap
DESCRIPTION:This overview will cover: basic user interface (searching for locations\, loading datasets\, saving & printing)\, unique custom functionality (creating custom boundaries\, editing ranges\, customizing colors\, etc)\, and highlighting specific datasets. \nWe will have plenty of time for questions and answers regarding PolicyMap. \nSign up
URL:/events/learning-the-basics-of-policymap-20221115
CATEGORIES:Trainings
ORGANIZER;CN="PolicyMap":MAILTO:info@policymap.com
END:VEVENT
BEGIN:VEVENT
DTSTART;TZID=America/New_York:20221122T110000
DTEND;TZID=America/New_York:20221122T120000
DTSTAMP:20260421T131916
CREATED:20221101T193639Z
LAST-MODIFIED:20221101T194135Z
UID:32322-1669114800-1669118400@www.policymap.com
SUMMARY:Learning the basics of PolicyMap
DESCRIPTION:This overview will cover: basic user interface (searching for locations\, loading datasets\, saving & printing)\, unique custom functionality (creating custom boundaries\, editing ranges\, customizing colors\, etc)\, and highlighting specific datasets. \nWe will have plenty of time for questions and answers regarding PolicyMap. \nSign up
URL:/events/learning-the-basics-of-policymap-20221122
CATEGORIES:Trainings
ORGANIZER;CN="PolicyMap":MAILTO:info@policymap.com
END:VEVENT
BEGIN:VEVENT
DTSTART;TZID=America/New_York:20221129T140000
DTEND;TZID=America/New_York:20221129T150000
DTSTAMP:20260421T131916
CREATED:20221101T193757Z
LAST-MODIFIED:20221110T161520Z
UID:32323-1669730400-1669734000@www.policymap.com
SUMMARY:Learning the basics of PolicyMap
DESCRIPTION:This overview will cover: basic user interface (searching for locations\, loading datasets\, saving & printing)\, unique custom functionality (creating custom boundaries\, editing ranges\, customizing colors\, etc)\, and highlighting specific datasets. \nWe will have plenty of time for questions and answers regarding PolicyMap. \nSign up
URL:/events/learning-the-basics-of-policymap-20221129
CATEGORIES:Trainings
ORGANIZER;CN="PolicyMap":MAILTO:info@policymap.com
END:VEVENT
BEGIN:VEVENT
DTSTART;TZID=America/New_York:20221130T110000
DTEND;TZID=America/New_York:20221130T120000
DTSTAMP:20260421T131916
CREATED:20221101T195308Z
LAST-MODIFIED:20221101T195308Z
UID:32331-1669806000-1669809600@www.policymap.com
SUMMARY:Learn the Data Loader\, Multi-Layer Maps\, and other Advanced Features
DESCRIPTION:Thank you for joining us to learn more advanced features on PolicyMap. We hope you have already attended our Overview Training session to learn the basics of PolicyMap or at least have used the tool a bit. \nIn this session\, we will cover the more advanced features of PolicyMap including the Data Loader\, Data Download\, and Multi-Layer Maps. \n• The Data Loader allows users to quickly upload a point (address) dataset.\n• Downloading Data is as simple as a few clicks.\n• The Multi-Maps feature is the ability to overlay up to 5 layers of data. \nThis session will also offer plenty of time for questions and answer\, and time permitting\, a chance to go through a user case study. \nSign up
URL:/events/learn-the-data-loader-other-advanced-features-20221130
CATEGORIES:Trainings
ORGANIZER;CN="PolicyMap":MAILTO:info@policymap.com
END:VEVENT
END:VCALENDAR